BEGIN:VCALENDAR
VERSION:2.0
PRODID:-//305 Hive® - ECPv6.15.20//NONSGML v1.0//EN
CALSCALE:GREGORIAN
METHOD:PUBLISH
X-WR-CALNAME:305 Hive®
X-ORIGINAL-URL:https://305hive.com
X-WR-CALDESC:Events for 305 Hive®
REFRESH-INTERVAL;VALUE=DURATION:PT1H
X-Robots-Tag:noindex
X-PUBLISHED-TTL:PT1H
BEGIN:VTIMEZONE
TZID:America/New_York
BEGIN:DAYLIGHT
TZOFFSETFROM:-0500
TZOFFSETTO:-0400
TZNAME:EDT
DTSTART:20250309T070000
END:DAYLIGHT
BEGIN:STANDARD
TZOFFSETFROM:-0400
TZOFFSETTO:-0500
TZNAME:EST
DTSTART:20251102T060000
END:STANDARD
BEGIN:DAYLIGHT
TZOFFSETFROM:-0500
TZOFFSETTO:-0400
TZNAME:EDT
DTSTART:20260308T070000
END:DAYLIGHT
BEGIN:STANDARD
TZOFFSETFROM:-0400
TZOFFSETTO:-0500
TZNAME:EST
DTSTART:20261101T060000
END:STANDARD
BEGIN:DAYLIGHT
TZOFFSETFROM:-0500
TZOFFSETTO:-0400
TZNAME:EDT
DTSTART:20270314T070000
END:DAYLIGHT
BEGIN:STANDARD
TZOFFSETFROM:-0400
TZOFFSETTO:-0500
TZNAME:EST
DTSTART:20271107T060000
END:STANDARD
END:VTIMEZONE
BEGIN:VEVENT
DTSTART;TZID=America/New_York:20260417T180000
DTEND;TZID=America/New_York:20260417T230000
DTSTAMP:20260420T101116
CREATED:20251021T222254Z
LAST-MODIFIED:20251021T222254Z
UID:10019283-1776448800-1776466800@305hive.com
SUMMARY:NightGarden at Fairchild Tropical Botanic Garden
DESCRIPTION:Miami’s most magical holiday tradition is back! NightGarden returns for its 7th year\, transforming Fairchild Tropical Botanic Garden into a glowing wonderland filled with dazzling lights\, interactive installations\, and larger-than-life art experiences. Explore new features like the Tree of Life\, Pixie’s Detour\, and the Secret Garden Laser Show\, plus refreshed fairy encounters and immersive domes made for stunning photos. Guests can also enjoy movie nights under the stars\, delicious bites from local food trucks\, festive cocktails\, and an exclusive Bubble Pops retail experience featuring rare collectibles. Perfect for families\, couples\, and friends—this Miami favorite brings nature\, technology\, and holiday magic together for an unforgettable night. \n🎟️ Tickets start at $28 | Children 3 & under free\n📍 Fairchild Tropical Botanic Garden\, 10901 Old Cutler Road\, Coral Gables\, FL\n🔗 Get Tickets Here \n📅 Closed Thanksgiving Day | New Year’s Eve Celebration: Dec 31 (6 p.m.–12:30 a.m.)\n#NightGardenMiami
URL:https://305hive.com/event/nightgarden-at-fairchild-tropical-botanic-garden/2026-04-17/
LOCATION:Fairchild Tropical Botanic Garden\, 10901 Old Cutler Rd\, Coral Gables\, FL 33156\, Coral Gables\, 33156
ATTACH;FMTTYPE=image/png:https://305hive.com/wp-content/uploads/2025/10/Screenshot-2025-10-21-at-5.09.06-PM.png
ORGANIZER;CN="Fairchild Tropical Botanic Garden":MAILTO:amandab@deepsleepstudio.com
END:VEVENT
END:VCALENDAR