BEGIN:VCALENDAR
VERSION:2.0
PRODID:-//305 Hive® - ECPv6.15.20//NONSGML v1.0//EN
CALSCALE:GREGORIAN
METHOD:PUBLISH
X-WR-CALNAME:305 Hive®
X-ORIGINAL-URL:https://305hive.com
X-WR-CALDESC:Events for 305 Hive®
REFRESH-INTERVAL;VALUE=DURATION:PT1H
X-Robots-Tag:noindex
X-PUBLISHED-TTL:PT1H
BEGIN:VTIMEZONE
TZID:America/New_York
BEGIN:DAYLIGHT
TZOFFSETFROM:-0500
TZOFFSETTO:-0400
TZNAME:EDT
DTSTART:20250309T070000
END:DAYLIGHT
BEGIN:STANDARD
TZOFFSETFROM:-0400
TZOFFSETTO:-0500
TZNAME:EST
DTSTART:20251102T060000
END:STANDARD
BEGIN:DAYLIGHT
TZOFFSETFROM:-0500
TZOFFSETTO:-0400
TZNAME:EDT
DTSTART:20260308T070000
END:DAYLIGHT
BEGIN:STANDARD
TZOFFSETFROM:-0400
TZOFFSETTO:-0500
TZNAME:EST
DTSTART:20261101T060000
END:STANDARD
BEGIN:DAYLIGHT
TZOFFSETFROM:-0500
TZOFFSETTO:-0400
TZNAME:EDT
DTSTART:20270314T070000
END:DAYLIGHT
BEGIN:STANDARD
TZOFFSETFROM:-0400
TZOFFSETTO:-0500
TZNAME:EST
DTSTART:20271107T060000
END:STANDARD
END:VTIMEZONE
BEGIN:VEVENT
DTSTART;TZID=America/New_York:20260429T100000
DTEND;TZID=America/New_York:20260429T170000
DTSTAMP:20260420T095940
CREATED:20250926T142323Z
LAST-MODIFIED:20250926T142323Z
UID:10018718-1777456800-1777482000@305hive.com
SUMMARY:Halloween at Fairchild: Haunted Birdhouse Hunt
DESCRIPTION:This October\, Fairchild Garden transforms into a place of mystery and discovery. Hidden along winding trails are 13 haunted birdhouses—each tied to ghostly Florida folklore waiting to be uncovered.\nSolve the Riddles\, Unlock the Stories \nArmed with your scavenger hunt map\, you’ll search for clues\, crack riddles\, and piece together eerie tales that bring local legends to life. Each birdhouse reveals a new story from Florida’s haunted past. \nFamily Fun with a Spooky Twist! \nPerfect for all ages\, Haunted Birdhouses is designed to spark curiosity without the scares. Whether you come for a single adventure or return throughout the month\, a mystery prize awaits those who complete the hunt
URL:https://305hive.com/event/halloween-at-fairchild-haunted-birdhouse-hunt/2026-04-29/
LOCATION:Fairchild Tropical Botanic Garden\, 10901 Old Cutler Rd\, Coral Gables\, FL 33156\, Coral Gables\, 33156
ATTACH;FMTTYPE=image/png:https://305hive.com/wp-content/uploads/2025/09/Screenshot-2025-09-25-at-4.49.47-PM.png
ORGANIZER;CN="Fairchild Tropical Botanic Garden":MAILTO:amandab@deepsleepstudio.com
END:VEVENT
BEGIN:VEVENT
DTSTART;TZID=America/New_York:20260429T130000
DTEND;TZID=America/New_York:20260429T170000
DTSTAMP:20260420T095940
CREATED:20260415T210438Z
LAST-MODIFIED:20260415T210438Z
UID:10021306-1777467600-1777482000@305hive.com
SUMMARY:Mobil™ Miami Grand Prix Event
DESCRIPTION:Join Mobil™ in Miami\, Apr 29-30! Race sims\, win prizes and have a chance to meet VCARB rookie driver Arvid Lindblad (4/29 only). \nFrom April 29 to April 30 🏁 Mobil™ is celebrating their partnership with the Visa Cash App Racing Bull (VCARB) Formula One™ team with an exclusive fan event in Miami! Race on simulators\, test your skills in reaction games\, win signed merch & Mobil™ gas gift cards and have the chance to meet VCARB rookie Arvid Linblad (Wednesday\, limited time only) at the Mobil™ Station on 18301 NW 27th Ave\, Miami Gardens\, 33056*. \nWhat’s included:\n• 🏎️ Race sims for chance to win signed VCARB merch*\n• 💸 Beat Arvid’s time & win $1\,000 in Mobil™ gas cards!*\n• 😍 Chance to meet Arvid IRL on Wednesday\, April 29\n• 💪Test your reflexes with racing warm-up games\n• 🧢 Pick up some free swag and get it tagged by Miami artist SURGE*\n• 🎧 Grab a Red Bull & vibe with our DJ Too Tall \n*Disclaimer: While supplies last\, must be 18 years or older to claim prizes\, full T&C’s apply\, click link for full details
URL:https://305hive.com/event/mobil-miami-grand-prix-event/
LOCATION:18301 NW 27th Ave\, Miami Gardens\, 33056\, 18301 NW 27th Avenue\, Miami Gardens\, 33056
END:VEVENT
BEGIN:VEVENT
DTSTART;TZID=America/New_York:20260429T180000
DTEND;TZID=America/New_York:20260429T193000
DTSTAMP:20260420T095940
CREATED:20260330T191937Z
LAST-MODIFIED:20260401T014229Z
UID:10021230-1777485600-1777491000@305hive.com
SUMMARY:305 Hive’s Book Club Experience: My Husband's Wife
DESCRIPTION:Join us at The Collab for our next Book Club gathering. Enjoy delicious bites\, wine\, and lively discussion as we dive into My Husband’s Wife\, a twist-filled psychological thriller that will keep everyone guessing. It’s the perfect evening to connect with fellow readers and share your take on the story.  \nNew to Book Club? All you have to do is be a subscriber to the 305 Hive Newsletter. Not a subscriber? Subscribe for free HERE. There is no annual fee\, just the cost of your ticket to the event. \nPurchase your copy of the book here. \nTickets are required\, as space is limited. Your ticket price includes wine and lite bites *must be 21 and over. *Tickets are non-refundable. \nClick here to join our Goodreads group.
URL:https://305hive.com/event/305-hives-book-club-experience-my-husbands-wife/
LOCATION:The Collab\, 1350 S Dixie Hwy\, Coral Gables\, FL\, 33146\, United States
CATEGORIES:Book Club
ATTACH;FMTTYPE=image/png:https://305hive.com/wp-content/uploads/2026/03/Book-Buzz-invite-web.png
END:VEVENT
BEGIN:VEVENT
DTSTART;TZID=America/New_York:20260429T200000
DTEND;TZID=America/New_York:20260429T233000
DTSTAMP:20260420T095940
CREATED:20230311T172212Z
LAST-MODIFIED:20240814T182511Z
UID:10014949-1777492800-1777505400@305hive.com
SUMMARY:Wednesdays Just Got Epic: Epicure Cabaret Dinner Show at The Moon Miami
DESCRIPTION:Get ready to heat up your nights in Miami at The Moon\, one of Wynwood’s premier nightlife destinations\, with the electrifying new Epicure cabaret show that will leave guests breathless every Wednesday from 8 p.m. to midnight. Experience the ultimate fusion of music\, dance\, and entertainment in a thrilling performance that will keep you on the edge of your seat with artistic creations by Ricardo Ralph Lopez and music by Kristian Caro.
URL:https://305hive.com/event/wednesdays-just-got-epic-epicure-cabaret-dinner-show-at-the-moon-miami/2026-04-29/
LOCATION:The Moon\, 2103 NW Second Ave.\, Miami\, FL\, 33127
END:VEVENT
END:VCALENDAR