BEGIN:VCALENDAR
VERSION:2.0
PRODID:-//305 Hive® - ECPv6.15.20//NONSGML v1.0//EN
CALSCALE:GREGORIAN
METHOD:PUBLISH
X-WR-CALNAME:305 Hive®
X-ORIGINAL-URL:https://305hive.com
X-WR-CALDESC:Events for 305 Hive®
REFRESH-INTERVAL;VALUE=DURATION:PT1H
X-Robots-Tag:noindex
X-PUBLISHED-TTL:PT1H
BEGIN:VTIMEZONE
TZID:America/New_York
BEGIN:DAYLIGHT
TZOFFSETFROM:-0500
TZOFFSETTO:-0400
TZNAME:EDT
DTSTART:20250309T070000
END:DAYLIGHT
BEGIN:STANDARD
TZOFFSETFROM:-0400
TZOFFSETTO:-0500
TZNAME:EST
DTSTART:20251102T060000
END:STANDARD
BEGIN:DAYLIGHT
TZOFFSETFROM:-0500
TZOFFSETTO:-0400
TZNAME:EDT
DTSTART:20260308T070000
END:DAYLIGHT
BEGIN:STANDARD
TZOFFSETFROM:-0400
TZOFFSETTO:-0500
TZNAME:EST
DTSTART:20261101T060000
END:STANDARD
BEGIN:DAYLIGHT
TZOFFSETFROM:-0500
TZOFFSETTO:-0400
TZNAME:EDT
DTSTART:20270314T070000
END:DAYLIGHT
BEGIN:STANDARD
TZOFFSETFROM:-0400
TZOFFSETTO:-0500
TZNAME:EST
DTSTART:20271107T060000
END:STANDARD
END:VTIMEZONE
BEGIN:VEVENT
DTSTART;TZID=America/New_York:20260430T170000
DTEND;TZID=America/New_York:20260430T233000
DTSTAMP:20260422T085141
CREATED:20260411T164557Z
LAST-MODIFIED:20260411T164557Z
UID:10021270-1777568400-1777591800@305hive.com
SUMMARY:Brickell Nights at Hutong Miami
DESCRIPTION:Hutong Miami invites guests to Brickell Nights\, an after-dark dining experience where Northern Chinese cuisine meets elevated cocktails in a sleek\, high-energy setting. Quickly becoming one of the best places to dine in Miami for a late-night scene\, this weekly experience is designed for those who like their dinners to turn into nights out. \nWhat’s Included:\n• Free-flowing Dim Sum and signature Northern Chinese dishes\n• Bottomless cocktails (optional drinks package available)\n• Live dancers and immersive late-night atmosphere \nPricing:\n$68 per person | Optional drinks package +$20 \nGuests are encouraged to reserve in advance and settle in for a night where dinner seamlessly drifts into the after-hours.
URL:https://305hive.com/event/brickell-nights-at-hutong-miami/2026-04-30/
LOCATION:Hutong Miami\, 600 Brickell Avenue\, Miami\, 33131\, Cuba
ATTACH;FMTTYPE=image/png:https://305hive.com/wp-content/uploads/2026/04/Screenshot-2026-04-10-at-2.32.43-PM.png
ORGANIZER;CN="Hutong Miami":MAILTO:reservations@hutong-miami.com
END:VEVENT
BEGIN:VEVENT
DTSTART;TZID=America/New_York:20260430T180000
DTEND;TZID=America/New_York:20260430T213000
DTSTAMP:20260422T085141
CREATED:20260303T211337Z
LAST-MODIFIED:20260303T211337Z
UID:10020877-1777572000-1777584600@305hive.com
SUMMARY:Muerto de Risa – El Último Show de Álvarez Guedes
DESCRIPTION:Álvarez Guedes returns “del cielo pa’ Miami” in a first-of-its-kind immersive comedy cabaret experience\, celebrating laughter\, nostalgia\, and Latin culture. \nMuerto de Risa – El Último Show de Álvarez Guedes honors the legendary Cuban comedian who helped shape modern Latin comedy\, bringing his unmistakable voice and humor back to life inside a custom-built venue at Tropical Park. \nBlending comedy\, live music\, theatrical storytelling\, and immersive environments\, the experience transports audiences to the golden era of Miami for a night filled with laughter\, nostalgia\, and unforgettable “¡Nooo!” moments. \n🎟 Tickets go on sale March 5 at 10 AM EST\nStarting at $79.99 \nPerformances run Thursday through Sunday with limited capacity. (Showtimes vary)
URL:https://305hive.com/event/muerto-de-risa-el-ultimo-show-de-alvarez-guedes/
LOCATION:tropical Park\, 7900 SW 40th St\, Miami\, FL\, 33155\, United States
ATTACH;FMTTYPE=image/png:https://305hive.com/wp-content/uploads/2026/03/Screenshot-2026-03-03-at-11.30.20-AM.png
ORGANIZER;CN="Loud and Live":MAILTO:info@loudlive.com.
END:VEVENT
BEGIN:VEVENT
DTSTART;TZID=America/New_York:20260430T210000
DTEND;TZID=America/New_York:20260430T223000
DTSTAMP:20260422T085141
CREATED:20260415T205526Z
LAST-MODIFIED:20260415T205526Z
UID:10021308-1777582800-1777588200@305hive.com
SUMMARY:ArLOL Comedy Series at Arlo Wynwood
DESCRIPTION:Arlo Hotels presents a new edition of the ArLOL Comedy Series at Arlo Wynwood on Wednesday\, April 30\, where guests can expect an energetic night of stand-up. Doors open at 8:30 p.m.\, with the show running from 9-10:30 p.m. This is an adult comedy show with a rotating lineup of talented and up-and-coming comics\, hosted by Miami New Times 2024 Best Comedian\, Pauley. \nAbout the Host\nPaula Barros: Known for her voice acting and comedic skills\, Paula can be heard doing voice-overs on Netflix and Hulu\, including various Spanish-speaking roles in the South Park series. She also hosts various true crime podcasts such as Sacred Scandal and Cold Case Files\, and enjoys her weekly appearances at comedy clubs throughout Miami. \nComedian Lineup\nLonnie Cox: Known for his sharp\, conversational style and relatable takes on modern life\, Lonnie Cox is a rising stand-up comedian performing under @coxcomedy. He has appeared on podcasts such as Speaking Up with Aaron the Speaker and regularly performs at comedy showcases and events in South Florida. Blending quick wit with improvisational crowd work\, Cox brings an engaging\, high-energy presence to every performance\, making him a standout voice among emerging comedians. \nLeetah Faye: A staple in the South Florida comedy scene\, Leetah Faye performs stand-up regularly and is known for her engaging stage presence. She is the host of DOM’s Comedy Show and Comedy Night at Aficionados\, where she brings together local talent and audiences for lively\, crowd-driven performances. \nWynton Francis: Wynton Francis is a Miami-based comedian and the 2024 winner of the March Madnuts improv stand-up competition. He has performed at notable shows including The Anderson Miami\, Savage Labs Comedy Night\, Stand Up at Shirley’s\, Dade County Comedy and Florida Supercon\, and has been featured on the Master Debaters Comedy Show podcast. \nJP Kauer: A Miami native\, veteran and stand-up comedian\, J.P. Kauer has made a name for himself both on stage and behind the scenes as a producer. He has opened for comedians such as Marshall Brandon and Shaun Weiss\, performed at the Miami Improv and Jimmy Kimmel’s Comedy Club in Las Vegas\, and was featured in Florida’s Funniest in 2022. In addition to performing\, he produces several popular comedy shows across South Florida.\nPart of an ongoing series at Arlo Hotels\, the ArLOL Comedy Series rotates across locations in New York and Miami\, spotlighting fresh and established comedic talent.\nPurchase tickets via Eventbrite for an energetic night of stand-up in an intimate setting\, with nonstop laughs and engaging performances from diverse comedic voices.
URL:https://305hive.com/event/arlol-comedy-series-at-arlo-wynwood-2/
LOCATION:Higher Ground at Arlo Wynwood\, 2217 NW Miami Ct.\, 3rd floor\, Miami\, 33127
ATTACH;FMTTYPE=image/png:https://305hive.com/wp-content/uploads/2026/04/Screen-Shot-2026-04-15-at-11.11.53-AM.png
ORGANIZER;CN="Higher Ground at Arlo Wynwood":MAILTO:hellowynwood@arlohotels.com
END:VEVENT
END:VCALENDAR