BEGIN:VCALENDAR
VERSION:2.0
PRODID:-//305 Hive® - ECPv6.15.20//NONSGML v1.0//EN
CALSCALE:GREGORIAN
METHOD:PUBLISH
X-ORIGINAL-URL:https://305hive.com
X-WR-CALDESC:Events for 305 Hive®
REFRESH-INTERVAL;VALUE=DURATION:PT1H
X-Robots-Tag:noindex
X-PUBLISHED-TTL:PT1H
BEGIN:VTIMEZONE
TZID:America/New_York
BEGIN:DAYLIGHT
TZOFFSETFROM:-0500
TZOFFSETTO:-0400
TZNAME:EDT
DTSTART:20250309T070000
END:DAYLIGHT
BEGIN:STANDARD
TZOFFSETFROM:-0400
TZOFFSETTO:-0500
TZNAME:EST
DTSTART:20251102T060000
END:STANDARD
BEGIN:DAYLIGHT
TZOFFSETFROM:-0500
TZOFFSETTO:-0400
TZNAME:EDT
DTSTART:20260308T070000
END:DAYLIGHT
BEGIN:STANDARD
TZOFFSETFROM:-0400
TZOFFSETTO:-0500
TZNAME:EST
DTSTART:20261101T060000
END:STANDARD
BEGIN:DAYLIGHT
TZOFFSETFROM:-0500
TZOFFSETTO:-0400
TZNAME:EDT
DTSTART:20270314T070000
END:DAYLIGHT
BEGIN:STANDARD
TZOFFSETFROM:-0400
TZOFFSETTO:-0500
TZNAME:EST
DTSTART:20271107T060000
END:STANDARD
END:VTIMEZONE
BEGIN:VEVENT
DTSTART;TZID=America/New_York:20260520T100000
DTEND;TZID=America/New_York:20260520T170000
DTSTAMP:20260424T100831
CREATED:20250926T142323Z
LAST-MODIFIED:20250926T142323Z
UID:10018721-1779271200-1779296400@305hive.com
SUMMARY:Halloween at Fairchild: Haunted Birdhouse Hunt
DESCRIPTION:This October\, Fairchild Garden transforms into a place of mystery and discovery. Hidden along winding trails are 13 haunted birdhouses—each tied to ghostly Florida folklore waiting to be uncovered.\nSolve the Riddles\, Unlock the Stories \nArmed with your scavenger hunt map\, you’ll search for clues\, crack riddles\, and piece together eerie tales that bring local legends to life. Each birdhouse reveals a new story from Florida’s haunted past. \nFamily Fun with a Spooky Twist! \nPerfect for all ages\, Haunted Birdhouses is designed to spark curiosity without the scares. Whether you come for a single adventure or return throughout the month\, a mystery prize awaits those who complete the hunt
URL:https://305hive.com/event/halloween-at-fairchild-haunted-birdhouse-hunt/2026-05-20/
LOCATION:Fairchild Tropical Botanic Garden\, 10901 Old Cutler Rd\, Coral Gables\, FL 33156\, Coral Gables\, 33156
ATTACH;FMTTYPE=image/png:https://305hive.com/wp-content/uploads/2025/09/Screenshot-2025-09-25-at-4.49.47-PM.png
ORGANIZER;CN="Fairchild Tropical Botanic Garden":MAILTO:amandab@deepsleepstudio.com
END:VEVENT
BEGIN:VEVENT
DTSTART;TZID=America/New_York:20260520T173000
DTEND;TZID=America/New_York:20260520T223000
DTSTAMP:20260424T100831
CREATED:20260316T203319Z
LAST-MODIFIED:20260316T203319Z
UID:10020923-1779298200-1779316200@305hive.com
SUMMARY:The Half-Price Ritual: 50% Off Wine Wednesdays at Donatella Restaurant
DESCRIPTION:Celebrate the art of wine every Wednesday at Donatella Restaurant\, Miami Beach’s Italian gem inside the Donatella Boutique Hotel. \nFrom open to close\, enjoy 50% off the entire wine list\, featuring premium pours from crisp Prosecco and Chardonnay to bold Barolo and Amarone. Whether savoring a glass of Old World classics or exploring iconic New World labels\, every bottle tells a story\, and every sip is a discovery. \nSavor a midweek escape and enjoy la dolce vita in every sip.
URL:https://305hive.com/event/the-half-price-ritual-50-off-wine-wednesdays-at-donatella-restaurant/2026-05-20/
LOCATION:Donatella Restaurant\, 1350 Collins Ave\, Miami Beach\, FL\, 33139\, United States
ATTACH;FMTTYPE=image/jpeg:https://305hive.com/wp-content/uploads/2026/03/New-York-Strip-scaled.jpg
ORGANIZER;CN="Donatella":MAILTO:info@donatellarestaurant.com
END:VEVENT
BEGIN:VEVENT
DTSTART;TZID=America/New_York:20260520T200000
DTEND;TZID=America/New_York:20260520T233000
DTSTAMP:20260424T100831
CREATED:20230311T172212Z
LAST-MODIFIED:20240814T182511Z
UID:10014952-1779307200-1779319800@305hive.com
SUMMARY:Wednesdays Just Got Epic: Epicure Cabaret Dinner Show at The Moon Miami
DESCRIPTION:Get ready to heat up your nights in Miami at The Moon\, one of Wynwood’s premier nightlife destinations\, with the electrifying new Epicure cabaret show that will leave guests breathless every Wednesday from 8 p.m. to midnight. Experience the ultimate fusion of music\, dance\, and entertainment in a thrilling performance that will keep you on the edge of your seat with artistic creations by Ricardo Ralph Lopez and music by Kristian Caro.
URL:https://305hive.com/event/wednesdays-just-got-epic-epicure-cabaret-dinner-show-at-the-moon-miami/2026-05-20/
LOCATION:The Moon\, 2103 NW Second Ave.\, Miami\, FL\, 33127
END:VEVENT
END:VCALENDAR