BEGIN:VCALENDAR
VERSION:2.0
PRODID:-//305 Hive® - ECPv6.15.20//NONSGML v1.0//EN
CALSCALE:GREGORIAN
METHOD:PUBLISH
X-ORIGINAL-URL:https://305hive.com
X-WR-CALDESC:Events for 305 Hive®
REFRESH-INTERVAL;VALUE=DURATION:PT1H
X-Robots-Tag:noindex
X-PUBLISHED-TTL:PT1H
BEGIN:VTIMEZONE
TZID:America/New_York
BEGIN:DAYLIGHT
TZOFFSETFROM:-0500
TZOFFSETTO:-0400
TZNAME:EDT
DTSTART:20250309T070000
END:DAYLIGHT
BEGIN:STANDARD
TZOFFSETFROM:-0400
TZOFFSETTO:-0500
TZNAME:EST
DTSTART:20251102T060000
END:STANDARD
BEGIN:DAYLIGHT
TZOFFSETFROM:-0500
TZOFFSETTO:-0400
TZNAME:EDT
DTSTART:20260308T070000
END:DAYLIGHT
BEGIN:STANDARD
TZOFFSETFROM:-0400
TZOFFSETTO:-0500
TZNAME:EST
DTSTART:20261101T060000
END:STANDARD
BEGIN:DAYLIGHT
TZOFFSETFROM:-0500
TZOFFSETTO:-0400
TZNAME:EDT
DTSTART:20270314T070000
END:DAYLIGHT
BEGIN:STANDARD
TZOFFSETFROM:-0400
TZOFFSETTO:-0500
TZNAME:EST
DTSTART:20271107T060000
END:STANDARD
END:VTIMEZONE
BEGIN:VEVENT
DTSTART;TZID=America/New_York:20260530T110000
DTEND;TZID=America/New_York:20260530T190000
DTSTAMP:20260422T072344
CREATED:20260326T172555Z
LAST-MODIFIED:20260326T172555Z
UID:10021220-1780138800-1780167600@305hive.com
SUMMARY:Asian Culture Festival 2026
DESCRIPTION:The Asian Culture Festival returns to Tropical Park for its 35th annual celebration\, bringing together food\, tradition\, and modern pop culture in one immersive weekend. \nGuests can enjoy authentic Asian cuisine\, live performances\, anime\, cosplay\, and interactive experiences in a vibrant\, family friendly setting. \nWith something for all ages\, the festival offers a dynamic mix of culture\, entertainment\, and community. \nTickets start at 19\, with options for children and weekend passes available.
URL:https://305hive.com/event/asian-culture-festival-2026/
LOCATION:tropical Park\, 7900 SW 40th St\, Miami\, FL\, 33155\, United States
ATTACH;FMTTYPE=image/jpeg:https://305hive.com/wp-content/uploads/2026/03/ACF-Poster-2026.jpeg
END:VEVENT
END:VCALENDAR