BEGIN:VCALENDAR
VERSION:2.0
PRODID:-//305 Hive® - ECPv6.15.20//NONSGML v1.0//EN
CALSCALE:GREGORIAN
METHOD:PUBLISH
X-ORIGINAL-URL:https://305hive.com
X-WR-CALDESC:Events for 305 Hive®
REFRESH-INTERVAL;VALUE=DURATION:PT1H
X-Robots-Tag:noindex
X-PUBLISHED-TTL:PT1H
BEGIN:VTIMEZONE
TZID:America/New_York
BEGIN:DAYLIGHT
TZOFFSETFROM:-0500
TZOFFSETTO:-0400
TZNAME:EDT
DTSTART:20250309T070000
END:DAYLIGHT
BEGIN:STANDARD
TZOFFSETFROM:-0400
TZOFFSETTO:-0500
TZNAME:EST
DTSTART:20251102T060000
END:STANDARD
BEGIN:DAYLIGHT
TZOFFSETFROM:-0500
TZOFFSETTO:-0400
TZNAME:EDT
DTSTART:20260308T070000
END:DAYLIGHT
BEGIN:STANDARD
TZOFFSETFROM:-0400
TZOFFSETTO:-0500
TZNAME:EST
DTSTART:20261101T060000
END:STANDARD
BEGIN:DAYLIGHT
TZOFFSETFROM:-0500
TZOFFSETTO:-0400
TZNAME:EDT
DTSTART:20270314T070000
END:DAYLIGHT
BEGIN:STANDARD
TZOFFSETFROM:-0400
TZOFFSETTO:-0500
TZNAME:EST
DTSTART:20271107T060000
END:STANDARD
END:VTIMEZONE
BEGIN:VEVENT
DTSTART;TZID=America/New_York:20260510T120000
DTEND;TZID=America/New_York:20260510T160000
DTSTAMP:20260422T114015
CREATED:20260408T185451Z
LAST-MODIFIED:20260408T185451Z
UID:10021256-1778414400-1778428800@305hive.com
SUMMARY:Mother's Day Brunch and Dueling Pianos LIVE Show Singalong!
DESCRIPTION:Happy Mother’s Day 2026! Treat Mom to a delicious sing-along Brunch Buffet with Dueling Pianos LIVE Show in Miami’s most gorgeous outdoor venue.\n🌸 LIVE music\, high-energy sing-alongs\, fun cocktails\, delicious food and a full-on vibe. \nAll ages welcome but children must be under the supervision of the adults and not interfere with the show in any way or run around the venue. 🙂 \n🌸 Your ticket includes: Show\, seat for Dueling Pianos + Delicious Brunch Buffet \n🌸 DUELING PIANOS LIVE: Two pianists. All your favorite songs. Constant crowd interaction. \n🌸 BRUNCH BUFFET: Enjoy a delicious brunch buffet menu included in your ticket! \n🌸 COCKTAILS & BOTTOMLESS MIMOSAS: From mimosas to shareable cocktails — your Mother’s Day buzz? Covered. *Available for purchase upon arrival… \n🌸 OUTDOOR\, COVERED PATIO with motorized Pergola coverage \n💎 GORGEOUS VIP CABANAS to upgrade the experience: Ideal for groups looking for a comfortable\, elevated space while enjoying the show. Includes two bottles of Champagne!
URL:https://305hive.com/event/mothers-day-brunch-and-dueling-pianos-live-show-singalong/
LOCATION:Throw Social Miami\, 2335 N Miami Ave\, Miami\, FL\, 33127\, United States
ATTACH;FMTTYPE=image/jpeg:https://305hive.com/wp-content/uploads/2026/04/Miami-Mothers-Day-scaled.jpg
ORGANIZER;CN="THR%C5%8DW Social":MAILTO:miamiguests@throwsocial.com
END:VEVENT
END:VCALENDAR