BEGIN:VCALENDAR
VERSION:2.0
PRODID:-//305 Hive® - ECPv6.15.20//NONSGML v1.0//EN
CALSCALE:GREGORIAN
METHOD:PUBLISH
X-WR-CALNAME:305 Hive®
X-ORIGINAL-URL:https://305hive.com
X-WR-CALDESC:Events for 305 Hive®
REFRESH-INTERVAL;VALUE=DURATION:PT1H
X-Robots-Tag:noindex
X-PUBLISHED-TTL:PT1H
BEGIN:VTIMEZONE
TZID:America/New_York
BEGIN:DAYLIGHT
TZOFFSETFROM:-0500
TZOFFSETTO:-0400
TZNAME:EDT
DTSTART:20250309T070000
END:DAYLIGHT
BEGIN:STANDARD
TZOFFSETFROM:-0400
TZOFFSETTO:-0500
TZNAME:EST
DTSTART:20251102T060000
END:STANDARD
BEGIN:DAYLIGHT
TZOFFSETFROM:-0500
TZOFFSETTO:-0400
TZNAME:EDT
DTSTART:20260308T070000
END:DAYLIGHT
BEGIN:STANDARD
TZOFFSETFROM:-0400
TZOFFSETTO:-0500
TZNAME:EST
DTSTART:20261101T060000
END:STANDARD
BEGIN:DAYLIGHT
TZOFFSETFROM:-0500
TZOFFSETTO:-0400
TZNAME:EDT
DTSTART:20270314T070000
END:DAYLIGHT
BEGIN:STANDARD
TZOFFSETFROM:-0400
TZOFFSETTO:-0500
TZNAME:EST
DTSTART:20271107T060000
END:STANDARD
END:VTIMEZONE
BEGIN:VEVENT
DTSTART;TZID=America/New_York:20260506T100000
DTEND;TZID=America/New_York:20260506T150000
DTSTAMP:20260423T163558
CREATED:20260422T232359Z
LAST-MODIFIED:20260422T232359Z
UID:10021324-1778061600-1778079600@305hive.com
SUMMARY:5th Annual NMB Small Business Summit and Expo
DESCRIPTION:The City of North Miami Beach invites entrepreneurs\, business owners\, startups\, and aspiring innovators to the 5th Annual Small Business Summit & Expo — a dynamic\, high-impact event designed to help you build momentum and unlock new opportunities. \nThis is more than a networking event. It’s a strategic space where business meets access. \nWhat You’ll Experience:\n• Insightful panels featuring industry leaders and subject matter experts \n• Direct access to resource partners and business support organizations \n• Opportunities to connect with local decision-makers and fellow entrepreneurs \n• Practical tools\, funding insights\, and growth strategies \n• A curated vendor showcase highlighting local innovation
URL:https://305hive.com/event/5th-annual-nmb-small-business-summit-and-expo/
LOCATION:North Miami Beach City Hall\, 17011 NE 19th Avenue\, North Miami Beach\, 33162
ATTACH;FMTTYPE=image/jpeg:https://305hive.com/wp-content/uploads/2026/04/unnamed-3.jpg
END:VEVENT
BEGIN:VEVENT
DTSTART;TZID=America/New_York:20260507T170000
DTEND;TZID=America/New_York:20260507T200000
DTSTAMP:20260423T163558
CREATED:20260410T164855Z
LAST-MODIFIED:20260410T164855Z
UID:10021264-1778173200-1778184000@305hive.com
SUMMARY:Spring Sip and Shop
DESCRIPTION:This fun-filled evening on Miracle Mile lets you taste wines and other spirits from across Mexico while shopping at Gables boutiques. \nSpring Sip & Shop in Coral Gables \nCelebrate spring on Miracle Mile with a festive blend of shopping and wine! Enjoy vibrant Mexican wines and other spirits curated by the Consulate of Mexico as you explore charming boutiques for the perfect Mother’s Day gifts and graduation surprises. Sip\, stroll\, and discover something special for every important moment this season. \nOn Thursday\, May 7\, at 5 p.m.\, check in at McBride Plaza\, 150 Miracle Mile\, and receive an event map\, a complimentary wine tumbler\, and a reusable tote bag with special promotional offers inside. \nThis event is brought to you in partnership with the Consulate General of Mexico. Proceeds from the event will go to a local not-for-profit.
URL:https://305hive.com/event/spring-sip-and-shop/
LOCATION:MCBRIDE PLAZA\, 150 Miracle Mile\, Coral Gables\, FL\, 33134\, United States
ATTACH;FMTTYPE=image/jpeg:https://305hive.com/wp-content/uploads/2026/04/Untitled-design-7.jpg
END:VEVENT
END:VCALENDAR