BEGIN:VCALENDAR
VERSION:2.0
PRODID:-//305 Hive® - ECPv6.15.20//NONSGML v1.0//EN
CALSCALE:GREGORIAN
METHOD:PUBLISH
X-ORIGINAL-URL:https://305hive.com
X-WR-CALDESC:Events for 305 Hive®
REFRESH-INTERVAL;VALUE=DURATION:PT1H
X-Robots-Tag:noindex
X-PUBLISHED-TTL:PT1H
BEGIN:VTIMEZONE
TZID:America/New_York
BEGIN:DAYLIGHT
TZOFFSETFROM:-0500
TZOFFSETTO:-0400
TZNAME:EDT
DTSTART:20250309T070000
END:DAYLIGHT
BEGIN:STANDARD
TZOFFSETFROM:-0400
TZOFFSETTO:-0500
TZNAME:EST
DTSTART:20251102T060000
END:STANDARD
BEGIN:DAYLIGHT
TZOFFSETFROM:-0500
TZOFFSETTO:-0400
TZNAME:EDT
DTSTART:20260308T070000
END:DAYLIGHT
BEGIN:STANDARD
TZOFFSETFROM:-0400
TZOFFSETTO:-0500
TZNAME:EST
DTSTART:20261101T060000
END:STANDARD
BEGIN:DAYLIGHT
TZOFFSETFROM:-0500
TZOFFSETTO:-0400
TZNAME:EDT
DTSTART:20270314T070000
END:DAYLIGHT
BEGIN:STANDARD
TZOFFSETFROM:-0400
TZOFFSETTO:-0500
TZNAME:EST
DTSTART:20271107T060000
END:STANDARD
END:VTIMEZONE
BEGIN:VEVENT
DTSTART;TZID=America/New_York:20260424T180000
DTEND;TZID=America/New_York:20260424T230000
DTSTAMP:20260424T085250
CREATED:20251021T222254Z
LAST-MODIFIED:20251021T222254Z
UID:10019284-1777053600-1777071600@305hive.com
SUMMARY:NightGarden at Fairchild Tropical Botanic Garden
DESCRIPTION:Miami’s most magical holiday tradition is back! NightGarden returns for its 7th year\, transforming Fairchild Tropical Botanic Garden into a glowing wonderland filled with dazzling lights\, interactive installations\, and larger-than-life art experiences. Explore new features like the Tree of Life\, Pixie’s Detour\, and the Secret Garden Laser Show\, plus refreshed fairy encounters and immersive domes made for stunning photos. Guests can also enjoy movie nights under the stars\, delicious bites from local food trucks\, festive cocktails\, and an exclusive Bubble Pops retail experience featuring rare collectibles. Perfect for families\, couples\, and friends—this Miami favorite brings nature\, technology\, and holiday magic together for an unforgettable night. \n🎟️ Tickets start at $28 | Children 3 & under free\n📍 Fairchild Tropical Botanic Garden\, 10901 Old Cutler Road\, Coral Gables\, FL\n🔗 Get Tickets Here \n📅 Closed Thanksgiving Day | New Year’s Eve Celebration: Dec 31 (6 p.m.–12:30 a.m.)\n#NightGardenMiami
URL:https://305hive.com/event/nightgarden-at-fairchild-tropical-botanic-garden/2026-04-24/
LOCATION:Fairchild Tropical Botanic Garden\, 10901 Old Cutler Rd\, Coral Gables\, FL 33156\, Coral Gables\, 33156
ATTACH;FMTTYPE=image/png:https://305hive.com/wp-content/uploads/2025/10/Screenshot-2025-10-21-at-5.09.06-PM.png
ORGANIZER;CN="Fairchild Tropical Botanic Garden":MAILTO:amandab@deepsleepstudio.com
END:VEVENT
BEGIN:VEVENT
DTSTART;TZID=America/New_York:20260424T190000
DTEND;TZID=America/New_York:20260424T233000
DTSTAMP:20260424T085250
CREATED:20260217T175022Z
LAST-MODIFIED:20260217T175022Z
UID:10020473-1777057200-1777073400@305hive.com
SUMMARY:Fashions and Florals Nightfall in the Garden
DESCRIPTION:The Coral Gables Garden Club is excited to present its 4th Annual Fashions and Florals “NIGHTFALL IN THE GARDEN” fundraising event on Friday\, April 24\, 2026\, at the historic Coral Gables Country Club. The enchanted evening will feature an avant-garde Fashion Show by Designer Julian Chang along with beautiful flower arrangements\, cocktails\, elegant dinner\, lively music\, dancing\, and a silent auction. \nTicket price is $175 per person. Funds raised will support the new micro-forest planned in collaboration with the City of Coral Gables and the continued habitat restorations of Camp Mahachee. Plus\, ongoing programs the Coral Gables Garden Club supports which include educating its members\, youth and the public in gardening\, horticulture\, environmental issues\, community beautification\, and the art of floral design.
URL:https://305hive.com/event/fashions-and-florals-nightfall-in-the-garden/
LOCATION:Coral Gables Country Club\, 997 N. Greenway Drive\, Coral Gables\, FL\, 33134\, United States
ATTACH;FMTTYPE=image/png:https://305hive.com/wp-content/uploads/2026/02/Fashions-and-Florals-Graphic.png
ORGANIZER;CN="Coral Gables Garden Club":MAILTO:dinahmarzullo@bellsouth.net
END:VEVENT
BEGIN:VEVENT
DTSTART;TZID=America/New_York:20260424T193000
DTEND;TZID=America/New_York:20260424T223000
DTSTAMP:20260424T085250
CREATED:20260402T200548Z
LAST-MODIFIED:20260402T200548Z
UID:10021238-1777059000-1777069800@305hive.com
SUMMARY:Las Olas Wine and Food Festival
DESCRIPTION:Celebrate 30 years of flavor\, flair\, and philanthropy at the Las Olas Wine and Food Festival\, returning to Fort Lauderdale on Friday\, April 24. This milestone anniversary transforms four vibrant blocks of Las Olas Boulevard into a high-energy culinary destination\, bringing together more than 40 top restaurants and over 200 wines and spirits for an unforgettable night in support of the American Lung Association. \nThis year’s 90s-themed celebration pays tribute to the festival’s 1996 origins\, blending nostalgic vibes with elevated experiences. Guests can sip specialty cocktails\, indulge in luxe bites like caviar and truffles\, and unwind in a retro-chic lounge set to throwback beats. \nFrom dynamic tasting pavilions to the exclusive Premium Wine Garden featuring rare and globally sourced pours\, the event showcases the best of Greater Fort Lauderdale’s ever-evolving culinary scene. New immersive activations—including a tech-driven golf experience—add a playful\, interactive edge to the evening. \nWith all-inclusive food and beverage offerings\, VIP experiences\, and a star-studded lineup of culinary talent\, the Las Olas Wine and Food Festival continues to define South Florida’s premier food and wine celebration—where every bite and every sip gives back to a meaningful cause.
URL:https://305hive.com/event/las-olas-wine-and-food-festival/
LOCATION:201 E Las Olas Blvd\, Fort Lauderdale\, FL 33301\, 201 E Las Olas Blvd\, Fort Lauderdale\, 33301
ATTACH;FMTTYPE=image/jpeg:https://305hive.com/wp-content/uploads/2026/04/LOWFF-HERO-SHOT-2026-Medium.jpeg
END:VEVENT
END:VCALENDAR