BEGIN:VCALENDAR
VERSION:2.0
PRODID:-//305 Hive® - ECPv6.15.20//NONSGML v1.0//EN
CALSCALE:GREGORIAN
METHOD:PUBLISH
X-WR-CALNAME:305 Hive®
X-ORIGINAL-URL:https://305hive.com
X-WR-CALDESC:Events for 305 Hive®
REFRESH-INTERVAL;VALUE=DURATION:PT1H
X-Robots-Tag:noindex
X-PUBLISHED-TTL:PT1H
BEGIN:VTIMEZONE
TZID:America/New_York
BEGIN:DAYLIGHT
TZOFFSETFROM:-0500
TZOFFSETTO:-0400
TZNAME:EDT
DTSTART:20220313T070000
END:DAYLIGHT
BEGIN:STANDARD
TZOFFSETFROM:-0400
TZOFFSETTO:-0500
TZNAME:EST
DTSTART:20221106T060000
END:STANDARD
BEGIN:DAYLIGHT
TZOFFSETFROM:-0500
TZOFFSETTO:-0400
TZNAME:EDT
DTSTART:20230312T070000
END:DAYLIGHT
BEGIN:STANDARD
TZOFFSETFROM:-0400
TZOFFSETTO:-0500
TZNAME:EST
DTSTART:20231105T060000
END:STANDARD
BEGIN:DAYLIGHT
TZOFFSETFROM:-0500
TZOFFSETTO:-0400
TZNAME:EDT
DTSTART:20240310T070000
END:DAYLIGHT
BEGIN:STANDARD
TZOFFSETFROM:-0400
TZOFFSETTO:-0500
TZNAME:EST
DTSTART:20241103T060000
END:STANDARD
BEGIN:DAYLIGHT
TZOFFSETFROM:-0500
TZOFFSETTO:-0400
TZNAME:EDT
DTSTART:20250309T070000
END:DAYLIGHT
BEGIN:STANDARD
TZOFFSETFROM:-0400
TZOFFSETTO:-0500
TZNAME:EST
DTSTART:20251102T060000
END:STANDARD
BEGIN:DAYLIGHT
TZOFFSETFROM:-0500
TZOFFSETTO:-0400
TZNAME:EDT
DTSTART:20260308T070000
END:DAYLIGHT
BEGIN:STANDARD
TZOFFSETFROM:-0400
TZOFFSETTO:-0500
TZNAME:EST
DTSTART:20261101T060000
END:STANDARD
BEGIN:DAYLIGHT
TZOFFSETFROM:-0500
TZOFFSETTO:-0400
TZNAME:EDT
DTSTART:20270314T070000
END:DAYLIGHT
BEGIN:STANDARD
TZOFFSETFROM:-0400
TZOFFSETTO:-0500
TZNAME:EST
DTSTART:20271107T060000
END:STANDARD
END:VTIMEZONE
BEGIN:VEVENT
DTSTART;TZID=America/New_York:20260123T213000
DTEND;TZID=America/New_York:20260123T230000
DTSTAMP:20260422T125742
CREATED:20260104T170624Z
LAST-MODIFIED:20260104T170624Z
UID:10020083-1769203800-1769209200@305hive.com
SUMMARY:David Magnifico - The Magic of...Something
DESCRIPTION:Throughout history\, there have been many great magicians. David Magnifico…is not one of them. \n​It’s a show that can only be described as the world’s stupidest magic show. It’s a unique and unusual blend of comedy and “magic” mixed together with a whole lot of foolishness featuring a larger-than-life character attempting to entertain you. Whether you enjoy magic\, comedy\, or shows that just make no sense\, you’re sure to enjoy one of the most over the top characters you’ve ever seen. \nExperience David Magnifico\, live at Just The Funny Theater’s Spotlight Bar. Locally crafted beers and wines available.
URL:https://305hive.com/event/david-magnifico-the-magic-of-something/
LOCATION:Just the Funny\, 3119 Coral Way - Second Floor\, Miami\, 33145
CATEGORIES:305 Hive Live
ATTACH;FMTTYPE=image/jpeg:https://305hive.com/wp-content/uploads/2026/01/SunSentinel.jpg
ORGANIZER;CN="Just the Funny Theater":MAILTO:david@justthefunny.com
END:VEVENT
BEGIN:VEVENT
DTSTART;TZID=America/New_York:20251102T180000
DTEND;TZID=America/New_York:20251102T190000
DTSTAMP:20260422T125742
CREATED:20251003T003339Z
LAST-MODIFIED:20251003T003339Z
UID:10019144-1762106400-1762110000@305hive.com
SUMMARY:Mind Magic LIVE with Mentalist Joshua Seth
DESCRIPTION:🎃 This Halloween weekend prepare to Have Your Mind Completely Blown! 🤯 Experience an unforgettable evening of mind-reading\, magic and mystery with Mentalist Joshua Seth\, Winner of The Magic Olympics! 🏆 \n⭐️ “Jaw-Dropping Mind-Reading” — NBC\n⭐️ “Joshua Seth is Magical. A Must See!” – LA Times\n⭐️ “Genuinely Amazing and Flat-Out Funny” — Broadway World \n📍 Just The Funny Theater\n🎟️ Tickets from $29-$49 \n⏰ Get Tickets Now Before They Disappear 👇\nhttps://www.joshuaseth.com/tickets
URL:https://305hive.com/event/mind-magic-live-with-mentalist-joshua-seth/
LOCATION:Just the Funny\, 3119 Coral Way - Second Floor\, Miami\, 33145
ATTACH;FMTTYPE=image/jpeg:https://305hive.com/wp-content/uploads/2025/10/Mind-Magic-LIVE-Halloween-scaled.jpg
ORGANIZER;CN="Just the Funny Theater":MAILTO:david@justthefunny.com
END:VEVENT
BEGIN:VEVENT
DTSTART;TZID=America/New_York:20230115T190000
DTEND;TZID=America/New_York:20230115T233000
DTSTAMP:20260422T125742
CREATED:20230109T033252Z
LAST-MODIFIED:20230109T033252Z
UID:10011884-1673809200-1673825400@305hive.com
SUMMARY:Miami Improv Festival
DESCRIPTION:The Miami Improv Festival brings the best in improv and sketch comedy from around the world right to Miami! It’s four days and is Miami’s premiere comedy event and one of the world’s top improv festivals. \nThe 2023 edition blows it out with a star-studded line up of comedy acts – 39 hilarious shows including HERE THE IMPROVISED MUSICAL PLAY (Chicago IL) RUBY ROCKET (Portland OR) and SUTTON AND HILLAL (Pittsburg PA.) Also see performers from Atlanta\, Los Angeles\, New York and Omaha. \nMIF also offers the public a chance to get in on the improv action with a slate of 7 incredible master class workshops taught by improv and sketch comedy’s best and brightest instructors\, with workshops from Stacey Hallal\, Mark Sutton\, Tara DeFrancisco\, Rance Rizzuto and Dylan Rhode.
URL:https://305hive.com/event/miami-improv-festival/2023-01-15/
LOCATION:Just the Funny\, 3119 Coral Way - Second Floor\, Miami\, 33145
ORGANIZER;CN="Just the Funny Theater":MAILTO:david@justthefunny.com
END:VEVENT
BEGIN:VEVENT
DTSTART;TZID=America/New_York:20230114T190000
DTEND;TZID=America/New_York:20230114T233000
DTSTAMP:20260422T125742
CREATED:20230109T033252Z
LAST-MODIFIED:20230109T033252Z
UID:10011883-1673722800-1673739000@305hive.com
SUMMARY:Miami Improv Festival
DESCRIPTION:The Miami Improv Festival brings the best in improv and sketch comedy from around the world right to Miami! It’s four days and is Miami’s premiere comedy event and one of the world’s top improv festivals. \nThe 2023 edition blows it out with a star-studded line up of comedy acts – 39 hilarious shows including HERE THE IMPROVISED MUSICAL PLAY (Chicago IL) RUBY ROCKET (Portland OR) and SUTTON AND HILLAL (Pittsburg PA.) Also see performers from Atlanta\, Los Angeles\, New York and Omaha. \nMIF also offers the public a chance to get in on the improv action with a slate of 7 incredible master class workshops taught by improv and sketch comedy’s best and brightest instructors\, with workshops from Stacey Hallal\, Mark Sutton\, Tara DeFrancisco\, Rance Rizzuto and Dylan Rhode.
URL:https://305hive.com/event/miami-improv-festival/2023-01-14/
LOCATION:Just the Funny\, 3119 Coral Way - Second Floor\, Miami\, 33145
ORGANIZER;CN="Just the Funny Theater":MAILTO:david@justthefunny.com
END:VEVENT
BEGIN:VEVENT
DTSTART;TZID=America/New_York:20230113T190000
DTEND;TZID=America/New_York:20230113T233000
DTSTAMP:20260422T125742
CREATED:20230109T033252Z
LAST-MODIFIED:20230109T033252Z
UID:10011882-1673636400-1673652600@305hive.com
SUMMARY:Miami Improv Festival
DESCRIPTION:The Miami Improv Festival brings the best in improv and sketch comedy from around the world right to Miami! It’s four days and is Miami’s premiere comedy event and one of the world’s top improv festivals. \nThe 2023 edition blows it out with a star-studded line up of comedy acts – 39 hilarious shows including HERE THE IMPROVISED MUSICAL PLAY (Chicago IL) RUBY ROCKET (Portland OR) and SUTTON AND HILLAL (Pittsburg PA.) Also see performers from Atlanta\, Los Angeles\, New York and Omaha. \nMIF also offers the public a chance to get in on the improv action with a slate of 7 incredible master class workshops taught by improv and sketch comedy’s best and brightest instructors\, with workshops from Stacey Hallal\, Mark Sutton\, Tara DeFrancisco\, Rance Rizzuto and Dylan Rhode.
URL:https://305hive.com/event/miami-improv-festival/2023-01-13/
LOCATION:Just the Funny\, 3119 Coral Way - Second Floor\, Miami\, 33145
ORGANIZER;CN="Just the Funny Theater":MAILTO:david@justthefunny.com
END:VEVENT
BEGIN:VEVENT
DTSTART;TZID=America/New_York:20230112T190000
DTEND;TZID=America/New_York:20230112T233000
DTSTAMP:20260422T125742
CREATED:20230109T033252Z
LAST-MODIFIED:20230109T033252Z
UID:10011881-1673550000-1673566200@305hive.com
SUMMARY:Miami Improv Festival
DESCRIPTION:The Miami Improv Festival brings the best in improv and sketch comedy from around the world right to Miami! It’s four days and is Miami’s premiere comedy event and one of the world’s top improv festivals. \nThe 2023 edition blows it out with a star-studded line up of comedy acts – 39 hilarious shows including HERE THE IMPROVISED MUSICAL PLAY (Chicago IL) RUBY ROCKET (Portland OR) and SUTTON AND HILLAL (Pittsburg PA.) Also see performers from Atlanta\, Los Angeles\, New York and Omaha. \nMIF also offers the public a chance to get in on the improv action with a slate of 7 incredible master class workshops taught by improv and sketch comedy’s best and brightest instructors\, with workshops from Stacey Hallal\, Mark Sutton\, Tara DeFrancisco\, Rance Rizzuto and Dylan Rhode.
URL:https://305hive.com/event/miami-improv-festival/2023-01-12/
LOCATION:Just the Funny\, 3119 Coral Way - Second Floor\, Miami\, 33145
ORGANIZER;CN="Just the Funny Theater":MAILTO:david@justthefunny.com
END:VEVENT
END:VCALENDAR