BEGIN:VCALENDAR
VERSION:2.0
PRODID:-//305 Hive® - ECPv6.15.20//NONSGML v1.0//EN
CALSCALE:GREGORIAN
METHOD:PUBLISH
X-WR-CALNAME:305 Hive®
X-ORIGINAL-URL:https://305hive.com
X-WR-CALDESC:Events for 305 Hive®
REFRESH-INTERVAL;VALUE=DURATION:PT1H
X-Robots-Tag:noindex
X-PUBLISHED-TTL:PT1H
BEGIN:VTIMEZONE
TZID:America/New_York
BEGIN:DAYLIGHT
TZOFFSETFROM:-0500
TZOFFSETTO:-0400
TZNAME:EDT
DTSTART:20230312T070000
END:DAYLIGHT
BEGIN:STANDARD
TZOFFSETFROM:-0400
TZOFFSETTO:-0500
TZNAME:EST
DTSTART:20231105T060000
END:STANDARD
BEGIN:DAYLIGHT
TZOFFSETFROM:-0500
TZOFFSETTO:-0400
TZNAME:EDT
DTSTART:20240310T070000
END:DAYLIGHT
BEGIN:STANDARD
TZOFFSETFROM:-0400
TZOFFSETTO:-0500
TZNAME:EST
DTSTART:20241103T060000
END:STANDARD
BEGIN:DAYLIGHT
TZOFFSETFROM:-0500
TZOFFSETTO:-0400
TZNAME:EDT
DTSTART:20250309T070000
END:DAYLIGHT
BEGIN:STANDARD
TZOFFSETFROM:-0400
TZOFFSETTO:-0500
TZNAME:EST
DTSTART:20251102T060000
END:STANDARD
END:VTIMEZONE
BEGIN:VEVENT
DTSTART;TZID=America/New_York:20240614T200000
DTEND;TZID=America/New_York:20240614T220000
DTSTAMP:20260420T113033
CREATED:20240527T174737Z
LAST-MODIFIED:20240527T174737Z
UID:10014352-1718395200-1718402400@305hive.com
SUMMARY:Brévo Theatre Unveils “Dissonance”
DESCRIPTION:Brévo Theatre is proud to present the South Florida premiere of “Dissonance\,” a compelling new play that dives deep into the complex dynamics of a 20-year friendship between Angela\, a Black American woman\, and Lauren\, a White American woman\, in the wake of George Floyd’s tragic death. Crafted by playwrights Marci Duncan and Kerry Sandell\, and directed by Dr. James Webb\, this production explores the global reverberations of racial injustice and its personal impacts. Join us for the premiere on Friday\, June 14 at 8 p.m. at the Arts Garage in Delray Beach\, FL\, with additional performances at Broward College’s PACT in Pembroke Pines on June 15 and 16. Tickets are available for $35 to $45
URL:https://305hive.com/event/brevo-theatre-unveils-dissonance/
LOCATION:Arts Garage\, 94 NE 2nd Ave\,\, Delray Beach\,\, 33444\, Mexico
CATEGORIES:305 Hive Live
ORGANIZER;CN="Blank Canvas Comm - Brevo Theatre":MAILTO:info@brevotheatre.org
END:VEVENT
END:VCALENDAR