BEGIN:VCALENDAR
VERSION:2.0
PRODID:-//305 Hive® - ECPv6.15.20//NONSGML v1.0//EN
CALSCALE:GREGORIAN
METHOD:PUBLISH
X-ORIGINAL-URL:https://305hive.com
X-WR-CALDESC:Events for 305 Hive®
REFRESH-INTERVAL;VALUE=DURATION:PT1H
X-Robots-Tag:noindex
X-PUBLISHED-TTL:PT1H
BEGIN:VTIMEZONE
TZID:America/New_York
BEGIN:DAYLIGHT
TZOFFSETFROM:-0500
TZOFFSETTO:-0400
TZNAME:EDT
DTSTART:20240310T070000
END:DAYLIGHT
BEGIN:STANDARD
TZOFFSETFROM:-0400
TZOFFSETTO:-0500
TZNAME:EST
DTSTART:20241103T060000
END:STANDARD
BEGIN:DAYLIGHT
TZOFFSETFROM:-0500
TZOFFSETTO:-0400
TZNAME:EDT
DTSTART:20250309T070000
END:DAYLIGHT
BEGIN:STANDARD
TZOFFSETFROM:-0400
TZOFFSETTO:-0500
TZNAME:EST
DTSTART:20251102T060000
END:STANDARD
BEGIN:DAYLIGHT
TZOFFSETFROM:-0500
TZOFFSETTO:-0400
TZNAME:EDT
DTSTART:20260308T070000
END:DAYLIGHT
BEGIN:STANDARD
TZOFFSETFROM:-0400
TZOFFSETTO:-0500
TZNAME:EST
DTSTART:20261101T060000
END:STANDARD
END:VTIMEZONE
BEGIN:VEVENT
DTSTART;VALUE=DATE:20250222
DTEND;VALUE=DATE:20250223
DTSTAMP:20260420T071814
CREATED:20250102T160153Z
LAST-MODIFIED:20250102T160153Z
UID:10015582-1740182400-1740268799@305hive.com
SUMMARY:Girl Scout Cookie Season
DESCRIPTION:Girl Scout Cookies are on sale in Miami-Dade and the Keys January 18 – February 23. With each cookie purchase\, you’re supporting Girl Scouts as they learn\, grow\, and thrive through all of life’s adventures. Plus\, all proceeds stay local to help fund life-changing\, girl-led programs\, experiences\, and learning all year long in your community. Find cookies near you at: girlscoutsfl.org/cookies
URL:https://305hive.com/event/girl-scout-cookie-season/2025-02-22/
LOCATION:Girl Scouts of Tropical Florida
ORGANIZER;CN="Girl Scouts of Tropical Florida":MAILTO:hkarl@girlscoutsfl.org
END:VEVENT
BEGIN:VEVENT
DTSTART;VALUE=DATE:20250215
DTEND;VALUE=DATE:20250216
DTSTAMP:20260420T071814
CREATED:20250102T160153Z
LAST-MODIFIED:20250102T160153Z
UID:10015581-1739577600-1739663999@305hive.com
SUMMARY:Girl Scout Cookie Season
DESCRIPTION:Girl Scout Cookies are on sale in Miami-Dade and the Keys January 18 – February 23. With each cookie purchase\, you’re supporting Girl Scouts as they learn\, grow\, and thrive through all of life’s adventures. Plus\, all proceeds stay local to help fund life-changing\, girl-led programs\, experiences\, and learning all year long in your community. Find cookies near you at: girlscoutsfl.org/cookies
URL:https://305hive.com/event/girl-scout-cookie-season/2025-02-15/
LOCATION:Girl Scouts of Tropical Florida
ORGANIZER;CN="Girl Scouts of Tropical Florida":MAILTO:hkarl@girlscoutsfl.org
END:VEVENT
BEGIN:VEVENT
DTSTART;VALUE=DATE:20250208
DTEND;VALUE=DATE:20250209
DTSTAMP:20260420T071814
CREATED:20250102T160153Z
LAST-MODIFIED:20250102T160153Z
UID:10015580-1738972800-1739059199@305hive.com
SUMMARY:Girl Scout Cookie Season
DESCRIPTION:Girl Scout Cookies are on sale in Miami-Dade and the Keys January 18 – February 23. With each cookie purchase\, you’re supporting Girl Scouts as they learn\, grow\, and thrive through all of life’s adventures. Plus\, all proceeds stay local to help fund life-changing\, girl-led programs\, experiences\, and learning all year long in your community. Find cookies near you at: girlscoutsfl.org/cookies
URL:https://305hive.com/event/girl-scout-cookie-season/2025-02-08/
LOCATION:Girl Scouts of Tropical Florida
ORGANIZER;CN="Girl Scouts of Tropical Florida":MAILTO:hkarl@girlscoutsfl.org
END:VEVENT
BEGIN:VEVENT
DTSTART;VALUE=DATE:20250201
DTEND;VALUE=DATE:20250202
DTSTAMP:20260420T071814
CREATED:20250102T160153Z
LAST-MODIFIED:20250102T160153Z
UID:10015579-1738368000-1738454399@305hive.com
SUMMARY:Girl Scout Cookie Season
DESCRIPTION:Girl Scout Cookies are on sale in Miami-Dade and the Keys January 18 – February 23. With each cookie purchase\, you’re supporting Girl Scouts as they learn\, grow\, and thrive through all of life’s adventures. Plus\, all proceeds stay local to help fund life-changing\, girl-led programs\, experiences\, and learning all year long in your community. Find cookies near you at: girlscoutsfl.org/cookies
URL:https://305hive.com/event/girl-scout-cookie-season/2025-02-01/
LOCATION:Girl Scouts of Tropical Florida
ORGANIZER;CN="Girl Scouts of Tropical Florida":MAILTO:hkarl@girlscoutsfl.org
END:VEVENT
BEGIN:VEVENT
DTSTART;VALUE=DATE:20250125
DTEND;VALUE=DATE:20250126
DTSTAMP:20260420T071814
CREATED:20250102T160153Z
LAST-MODIFIED:20250102T160153Z
UID:10015578-1737763200-1737849599@305hive.com
SUMMARY:Girl Scout Cookie Season
DESCRIPTION:Girl Scout Cookies are on sale in Miami-Dade and the Keys January 18 – February 23. With each cookie purchase\, you’re supporting Girl Scouts as they learn\, grow\, and thrive through all of life’s adventures. Plus\, all proceeds stay local to help fund life-changing\, girl-led programs\, experiences\, and learning all year long in your community. Find cookies near you at: girlscoutsfl.org/cookies
URL:https://305hive.com/event/girl-scout-cookie-season/2025-01-25/
LOCATION:Girl Scouts of Tropical Florida
ORGANIZER;CN="Girl Scouts of Tropical Florida":MAILTO:hkarl@girlscoutsfl.org
END:VEVENT
BEGIN:VEVENT
DTSTART;VALUE=DATE:20250118
DTEND;VALUE=DATE:20250119
DTSTAMP:20260420T071814
CREATED:20250102T160153Z
LAST-MODIFIED:20250102T160153Z
UID:10015574-1737158400-1737244799@305hive.com
SUMMARY:Girl Scout Cookie Season
DESCRIPTION:Girl Scout Cookies are on sale in Miami-Dade and the Keys January 18 – February 23. With each cookie purchase\, you’re supporting Girl Scouts as they learn\, grow\, and thrive through all of life’s adventures. Plus\, all proceeds stay local to help fund life-changing\, girl-led programs\, experiences\, and learning all year long in your community. Find cookies near you at: girlscoutsfl.org/cookies
URL:https://305hive.com/event/girl-scout-cookie-season/2025-01-18/
LOCATION:Girl Scouts of Tropical Florida
ORGANIZER;CN="Girl Scouts of Tropical Florida":MAILTO:hkarl@girlscoutsfl.org
END:VEVENT
END:VCALENDAR