BEGIN:VCALENDAR
VERSION:2.0
PRODID:-//305 Hive® - ECPv6.15.20//NONSGML v1.0//EN
CALSCALE:GREGORIAN
METHOD:PUBLISH
X-ORIGINAL-URL:https://305hive.com
X-WR-CALDESC:Events for 305 Hive®
REFRESH-INTERVAL;VALUE=DURATION:PT1H
X-Robots-Tag:noindex
X-PUBLISHED-TTL:PT1H
BEGIN:VTIMEZONE
TZID:America/New_York
BEGIN:DAYLIGHT
TZOFFSETFROM:-0500
TZOFFSETTO:-0400
TZNAME:EDT
DTSTART:20240310T070000
END:DAYLIGHT
BEGIN:STANDARD
TZOFFSETFROM:-0400
TZOFFSETTO:-0500
TZNAME:EST
DTSTART:20241103T060000
END:STANDARD
BEGIN:DAYLIGHT
TZOFFSETFROM:-0500
TZOFFSETTO:-0400
TZNAME:EDT
DTSTART:20250309T070000
END:DAYLIGHT
BEGIN:STANDARD
TZOFFSETFROM:-0400
TZOFFSETTO:-0500
TZNAME:EST
DTSTART:20251102T060000
END:STANDARD
BEGIN:DAYLIGHT
TZOFFSETFROM:-0500
TZOFFSETTO:-0400
TZNAME:EDT
DTSTART:20260308T070000
END:DAYLIGHT
BEGIN:STANDARD
TZOFFSETFROM:-0400
TZOFFSETTO:-0500
TZNAME:EST
DTSTART:20261101T060000
END:STANDARD
BEGIN:DAYLIGHT
TZOFFSETFROM:-0500
TZOFFSETTO:-0400
TZNAME:EDT
DTSTART:20270314T070000
END:DAYLIGHT
BEGIN:STANDARD
TZOFFSETFROM:-0400
TZOFFSETTO:-0500
TZNAME:EST
DTSTART:20271107T060000
END:STANDARD
END:VTIMEZONE
BEGIN:VEVENT
DTSTART;TZID=America/New_York:20260408T190000
DTEND;TZID=America/New_York:20260408T220000
DTSTAMP:20260421T120012
CREATED:20260317T191337Z
LAST-MODIFIED:20260317T191337Z
UID:10021180-1775674800-1775685600@305hive.com
SUMMARY:Trivia Nights with Trivia Nation at Hotel Continental Miami Beach
DESCRIPTION:Put your thinking cap on and head to Hotel Continental Miami Beach for General Knowledge Trivia hosted by Trivia Nation on Wednesday\, April 8 at 7 p.m. Designed with a Jeopardy! and Trivial Pursuit vibe and questions for all ages\, this lively showdown is perfect for friend groups\, coworkers\, families or solo players ready to join a team on the spot. Even better: There’s $100 in prizes up for grabs each month\, plus drinks and bites available from Divebar\, the hotel’s self-pour standout. Set in the newly renovated Hotel Continental\, a 1948 Mid-Beach gem blending retro-chic design with modern comforts\, trivia night is your excuse to make a weeknight feel like a mini getaway. Tickets are free and open to the public. Reserve your spot https://www.eventbrite.com/e/general-knowledge-trivia-at-hotel-continental-miami-beach-100-in-prizes-tickets-1977389414970?aff=oddtdtcreator
URL:https://305hive.com/event/trivia-nights-with-trivia-nation-at-hotel-continental-miami-beach-4/
LOCATION:hotel continental\, 4000 Collins Ave\, Miami Beach\, 33140
ATTACH;FMTTYPE=image/png:https://305hive.com/wp-content/uploads/2026/03/General-Knowledge-Trivia_April-8-2026-1.png
END:VEVENT
BEGIN:VEVENT
DTSTART;TZID=America/New_York:20260311T190000
DTEND;TZID=America/New_York:20260311T220000
DTSTAMP:20260421T120012
CREATED:20260219T005652Z
LAST-MODIFIED:20260219T005652Z
UID:10020475-1773255600-1773266400@305hive.com
SUMMARY:Trivia Nights with Trivia Nation at Hotel Continental Miami Beach
DESCRIPTION:Put your thinking cap on and head to Hotel Continental Miami Beach for General Knowledge Trivia hosted by Trivia Nation on Wednesday\, March 11\, at 7 p.m.\, and continuing every second Wednesday of the month. Designed with a Jeopardy! and Trivial Pursuit vibe and questions for all ages\, this lively showdown is perfect for friend groups\, coworkers\, families or solo players ready to join a team on the spot. Even better: There’s $100 in prizes up for grabs each month\, plus drinks and bites available from Divebar\, the hotel’s self-pour standout\, with happy hour pricing until 8 p.m. Set in the newly renovated Hotel Continental\, a 1948 Mid-Beach gem blending retro-chic design with modern comforts\, trivia night is your excuse to make a weeknight feel like a mini getaway. Tickets are free and open to the public. Reserve your spot https://www.eventbrite.com/e/general-knowledge-trivia-at-hotel-continental-miami-beach-100-in-prizes-tickets-1977389063920?aff=oddtdtcreator
URL:https://305hive.com/event/trivia-nights-with-trivia-nation-at-hotel-continental-miami-beach-3/
LOCATION:hotel continental\, 4000 Collins Ave\, Miami Beach\, 33140
ATTACH;FMTTYPE=image/png:https://305hive.com/wp-content/uploads/2026/02/General-Knowledge-Trivia_March-11-1.png
END:VEVENT
BEGIN:VEVENT
DTSTART;TZID=America/New_York:20260226T190000
DTEND;TZID=America/New_York:20260226T210000
DTSTAMP:20260421T120012
CREATED:20260219T005537Z
LAST-MODIFIED:20260219T005546Z
UID:10020478-1772132400-1772139600@305hive.com
SUMMARY:Sip and Strokes Ceramic Mug Painting with Mercado Art Studio at Hotel Continental
DESCRIPTION:Enjoy a hands-on evening of creativity as Hotel Continental partners with Mercado Art Studio for Sips & Strokes Ceramic Mug Painting on Thursday\, February 26 from 7-9 p.m. Guests can decorate a functional\, food-safe ceramic mug and personalize their item using various color palettes. Instructors from Mercado Art Studio will guide participants through painting techniques and color layering to create a keepsake or handmade gift. All materials are provided.\nOnce completed\, pieces will be professionally glazed and fired at Mercado Art Studio. Finished items will be ready in 2-4 weeks\, with options to pick up at Hotel Continental or the studio’s Hallandale Beach location\, or shipped directly to guests’ homes for an additional cost.\nTickets available for purchase at https://www.eventbrite.com/e/sips-strokes-miami-beach-mug-painting-night-tickets-1983370182607?aff=oddtdtcreator
URL:https://305hive.com/event/sip-strokes-ceramic-mug-painting-with-mercado-art-studio-at-hotel-continental/
LOCATION:hotel continental\, 4000 Collins Ave\, Miami Beach\, 33140
ATTACH;FMTTYPE=image/jpeg:https://305hive.com/wp-content/uploads/2026/02/Sip-Strokes-Flyer.jpg
END:VEVENT
BEGIN:VEVENT
DTSTART;TZID=America/New_York:20260211T190000
DTEND;TZID=America/New_York:20260211T220000
DTSTAMP:20260421T120012
CREATED:20260129T225103Z
LAST-MODIFIED:20260129T225103Z
UID:10020210-1770836400-1770847200@305hive.com
SUMMARY:Trivia Nights with Trivia Nation at Hotel Continental Miami Beach
DESCRIPTION:Put your thinking cap on and head to Hotel Continental Miami Beach for General Knowledge Trivia hosted by Trivia Nation on Wednesday\, February 11\, at 7 p.m.\, and continuing every second Wednesday of the month. Designed with a Jeopardy! and Trivial Pursuit vibe and questions for all ages\, this lively showdown is perfect for friend groups\, coworkers\, families or solo players ready to join a team on the spot. Even better: There’s $100 in prizes up for grabs each month\, plus drinks and bites available from Divebar\, the hotel’s self-pour standout\, with happy hour pricing until 8 p.m. Set in the newly renovated Hotel Continental\, a 1948 Mid-Beach gem blending retro-chic design with modern comforts\, trivia night is your excuse to make a weeknight feel like a mini getaway. Tickets are free and open to the public. Reserve your spot https://www.eventbrite.com/e/general-knowledge-trivia-at-hotel-continental-miami-beach-100-in-prizes-tickets-1977389063920?aff=oddtdtcreator
URL:https://305hive.com/event/trivia-nights-with-trivia-nation-at-hotel-continental-miami-beach-2/
LOCATION:hotel continental\, 4000 Collins Ave\, Miami Beach\, 33140
ATTACH;FMTTYPE=image/jpeg:https://305hive.com/wp-content/uploads/2026/01/General-Knowledge-Trivia_February-11.jpg
END:VEVENT
BEGIN:VEVENT
DTSTART;TZID=America/New_York:20260205T190000
DTEND;TZID=America/New_York:20260205T230000
DTSTAMP:20260421T120012
CREATED:20260129T232151Z
LAST-MODIFIED:20260129T232151Z
UID:10020212-1770318000-1770332400@305hive.com
SUMMARY:Not-So-Lonely Hearts Club at Hotel Continental with Thursday Dating
DESCRIPTION:Tired of being strung along? Thursday Dating brings its Not-So-Lonely Hearts Club\, a Valentine’s-themed singles craft night\, to Hotel Continental Miami Beach on Thursday\, February 5\, from 7-11 p.m. Taking over the hotel’s retro Mixer Lounge and Divebar\, the event pairs midcentury vibes with a hands-on craft experience inspired by one of the oldest forms of flirting: making something by hand and giving it to someone you like. In collaboration with local art studio Casa Terra Ceramics\, guests are invited to create custom beaded bracelets during the evening\, with unlimited materials and guided instruction included with each ticket. The interactive format encourages organic connection\, playful conversation and the chance to leave with a handmade keepsake—and possibly a phone number. The 21+ event offers happy hour pricing throughout the night and self-pour cocktail taps from Divebar. Early-bird tickets are $15\, and general admission is $20. Grab your spot https://events.getthursday.com/event/thursday-not-so-lonely-hearts-club-%f0%9f%92%96-hotel-continental-miami-beach/
URL:https://305hive.com/event/not-so-lonely-hearts-club-at-hotel-continental-with-thursday-dating/
LOCATION:hotel continental\, 4000 Collins Ave\, Miami Beach\, 33140
ATTACH;FMTTYPE=image/jpeg:https://305hive.com/wp-content/uploads/2026/01/Sweet-Connections-HC-2.jpg
END:VEVENT
BEGIN:VEVENT
DTSTART;TZID=America/New_York:20260121T190000
DTEND;TZID=America/New_York:20260121T210000
DTSTAMP:20260421T120012
CREATED:20260115T171339Z
LAST-MODIFIED:20260115T171339Z
UID:10020166-1769022000-1769029200@305hive.com
SUMMARY:Trivia Nights with Trivia Nation at Hotel Continental Miami Beach
DESCRIPTION:Put your thinking cap on and head to Hotel Continental Miami Beach for General Knowledge Trivia hosted by Trivia Nation on Wednesday\, January 21 at 7 p.m. Designed with a Jeopardy! and Trivial Pursuit vibe and questions for all ages\, this lively showdown is perfect for friend groups\, coworkers\, families or solo players ready to join a team on the spot. Even better: There’s $100 in prizes up for grabs each month\, plus drinks and bites available from Divebar\, the hotel’s self-pour standout\, with happy hour pricing until 8 p.m. Set in the newly renovated Hotel Continental\, a 1948 Mid-Beach gem blending retro-chic design with modern comforts\, trivia night is your excuse to make a weeknight feel like a mini getaway. Tickets are free and open to the public. Reserve your spot ​​https://www.eventbrite.com/e/general-knowledge-trivia-at-hotel-continental-miami-beach-100-in-prizes-tickets-1980022750347?aff=ebdsshcopyurl&utm-campaign=social&utm-content=attendeeshare&utm-medium=discovery&utm-term=listing&utm-source=cp
URL:https://305hive.com/event/trivia-nights-with-trivia-nation-at-hotel-continental-miami-beach/
LOCATION:hotel continental\, 4000 Collins Ave\, Miami Beach\, 33140
ATTACH;FMTTYPE=image/jpeg:https://305hive.com/wp-content/uploads/2026/01/2-1-scaled.jpg
END:VEVENT
BEGIN:VEVENT
DTSTART;TZID=America/New_York:20251218T190000
DTEND;TZID=America/New_York:20251218T210000
DTSTAMP:20260421T120012
CREATED:20251205T141914Z
LAST-MODIFIED:20251205T141914Z
UID:10019548-1766084400-1766091600@305hive.com
SUMMARY:Holiday Pottery Painting with Mercado Art Studio at Hotel Continental Miami Beach
DESCRIPTION:Enjoy a festive\, hands-on evening of creativity as Hotel Continental Miami Beach partners with Mercado Art Studio for Holiday Pottery Painting on Thursday\, December 18\, from 7-9 p.m. Guests can choose from a curated selection of seasonal ceramic pieces\, such as ornaments\, holiday figurines\, plates and mugs\, and personalize their item using a holiday-inspired color palette. Instructors from Mercado Art Studio will guide participants through painting techniques and color layering to create a keepsake or handmade gift. All materials are provided.\nOnce completed\, pieces will be professionally glazed and fired at Mercado Art Studio. Finished items will be ready in 2-4 weeks\, with options to pick up at Hotel Continental or the studio’s Hallandale Beach location\, or shipped directly to guests’ homes for an additional cost.\nPerfect for families\, couples\, groups or solo creatives\, the experience blends hands-on art-making with a festive atmosphere as The Jingle Joint\, the hotel’s holiday pop-up bar\, brings a retro-inspired winter setting to life in the heart of Miami Beach. Tickets available for purchase at https://www.eventbrite.com/e/holiday-ceramic-painting-at-hotel-continental-miami-beach-tickets-1971428743441?aff=oddtdtcreator
URL:https://305hive.com/event/holiday-pottery-painting-with-mercado-art-studio-at-hotel-continental-miami-beach/
LOCATION:hotel continental\, 4000 Collins Ave\, Miami Beach\, 33140
ATTACH;FMTTYPE=image/png:https://305hive.com/wp-content/uploads/2025/12/Screenshot-2025-12-04-at-2.03.32-PM.png
END:VEVENT
BEGIN:VEVENT
DTSTART;TZID=America/New_York:20251202T100000
DTEND;TZID=America/New_York:20251202T210000
DTSTAMP:20260421T120012
CREATED:20251113T181917Z
LAST-MODIFIED:20251113T181917Z
UID:10019469-1764669600-1764709200@305hive.com
SUMMARY:Hotel Continental Presents: Paws and Palettes with Danny O’Connor
DESCRIPTION:This Miami Art Week\, Hotel Continental presents Paws & Palettes with artist Danny O’Connor\, an immersive and interactive celebration where creativity goes off-leash. Guests are encouraged to bring photos of their pets for O’Connor to re-paw-duce and sketch on special Hotel Continental stationery. This free public event takes place on the hotel’s pool deck with two sessions: 10 a.m. to 2 p.m. and 4-9 p.m. \nBetween sessions\, attendees are invited to unwind poolside or at the vintage-inspired Mixer\, enjoying chilled beverages and bites from Divebar\, a retro cocktail den featuring a self-pour beverage wall. It’s a fun\, pet-friendly day for anyone who loves art and their furry friends.
URL:https://305hive.com/event/hotel-continental-presents-paws-and-palettes-with-danny-oconnor/
LOCATION:hotel continental\, 4000 Collins Ave\, Miami Beach\, 33140
ATTACH;FMTTYPE=image/jpeg:https://305hive.com/wp-content/uploads/2025/11/Hotel_Continental_Pool_3_Credit__Victoria_Grodski_15.jpg
END:VEVENT
BEGIN:VEVENT
DTSTART;TZID=America/New_York:20251016T200000
DTEND;TZID=America/New_York:20251016T220000
DTSTAMP:20260421T120012
CREATED:20251008T141254Z
LAST-MODIFIED:20251008T141254Z
UID:10019158-1760644800-1760652000@305hive.com
SUMMARY:The Roast Battle League at Hotel Continental
DESCRIPTION:The Roast Battle League\, the world’s largest competitive roasting organization\, brings its South Florida showdown to Hotel Continental on Wednesday\, Oct. 16\, from 8 to 10 p.m. Founded on the belief that humor unites\, the league pits comics against one another in head-to-head battles of wit and insults. The Roast Battle League has become a global stage for sharp-tongued comedians to push boundaries\, showcase their writing\, and compete for a shot at the Roast Battle League World Championship. Audiences can expect an evening of raw humor and quick-fire punchlines as rising Roast Battle stars from across the globe take the stage\, hosted by local stand up comedian Mac Lawson. Food and beverage from Hotel Continental’s Divebar\, a retro cocktail lounge featuring a self-pour beverage wall\, will be available for purchase and tickets can be secured https://www.eventbrite.com/e/south-beach-comedy-roast-tickets-1731900283369?aff=oddtdtcreator.
URL:https://305hive.com/event/the-roast-battle-league-at-hotel-continental/
LOCATION:hotel continental\, 4000 Collins Ave\, Miami Beach\, 33140
ATTACH;FMTTYPE=image/jpeg:https://305hive.com/wp-content/uploads/2025/10/HC-Roast-flyer.jpg
END:VEVENT
END:VCALENDAR