BEGIN:VCALENDAR
VERSION:2.0
PRODID:-//305 Hive® - ECPv6.15.20//NONSGML v1.0//EN
CALSCALE:GREGORIAN
METHOD:PUBLISH
X-WR-CALNAME:305 Hive®
X-ORIGINAL-URL:https://305hive.com
X-WR-CALDESC:Events for 305 Hive®
REFRESH-INTERVAL;VALUE=DURATION:PT1H
X-Robots-Tag:noindex
X-PUBLISHED-TTL:PT1H
BEGIN:VTIMEZONE
TZID:America/New_York
BEGIN:DAYLIGHT
TZOFFSETFROM:-0500
TZOFFSETTO:-0400
TZNAME:EDT
DTSTART:20240310T070000
END:DAYLIGHT
BEGIN:STANDARD
TZOFFSETFROM:-0400
TZOFFSETTO:-0500
TZNAME:EST
DTSTART:20241103T060000
END:STANDARD
BEGIN:DAYLIGHT
TZOFFSETFROM:-0500
TZOFFSETTO:-0400
TZNAME:EDT
DTSTART:20250309T070000
END:DAYLIGHT
BEGIN:STANDARD
TZOFFSETFROM:-0400
TZOFFSETTO:-0500
TZNAME:EST
DTSTART:20251102T060000
END:STANDARD
BEGIN:DAYLIGHT
TZOFFSETFROM:-0500
TZOFFSETTO:-0400
TZNAME:EDT
DTSTART:20260308T070000
END:DAYLIGHT
BEGIN:STANDARD
TZOFFSETFROM:-0400
TZOFFSETTO:-0500
TZNAME:EST
DTSTART:20261101T060000
END:STANDARD
END:VTIMEZONE
BEGIN:VEVENT
DTSTART;TZID=America/New_York:20251214T094500
DTEND;TZID=America/New_York:20251214T110000
DTSTAMP:20260421T132522
CREATED:20251204T144831Z
LAST-MODIFIED:20251204T144831Z
UID:10019546-1765705500-1765710000@305hive.com
SUMMARY:Wellness Sunday x JETSET on the Mat
DESCRIPTION:Pembroke Gardens will welcome JETSET for an exclusive wellness event on Sunday\, December 14\, giving guests the chance to be among the first to experience the studio’s signature 50-minute Mat Pilates class in the neighborhood. \nTicket Includes:\n– Goodie Bags with JETSET branded grip socks\n– 50 – minute mat Pilates class\n– Exciting JETSET raffles and giveaways \nThe event will feature JETSET’s renowned programming\, blending strength\, flow\, and full-body sculpting designed for all levels. Guests are encouraged to arrive on time with ticket ready for check-in. Walk-ins will not be admitted. \nFor updates and event details\, follow @shoppembrokegardens on social media. \nWho: JETSET Pilates Pembroke Pines\nWhat: JETSET on the Mat Pilates Class\nWhere: Pembroke Gardens Fountain (across from The Pub)\nWhen: Sunday\, December 14th @ 9:45 AM
URL:https://305hive.com/event/wellness-sunday-x-jetset-on-the-mat/
LOCATION:Pembroke Gardens\, 527 SW 145th Terrace\, Pembroke Pines\, 33027
ATTACH;FMTTYPE=image/png:https://305hive.com/wp-content/uploads/2025/12/JETSET.png
END:VEVENT
BEGIN:VEVENT
DTSTART;TZID=America/New_York:20251206T110000
DTEND;TZID=America/New_York:20251206T130000
DTSTAMP:20260421T132522
CREATED:20251201T195643Z
LAST-MODIFIED:20251201T195643Z
UID:10019536-1765018800-1765026000@305hive.com
SUMMARY:Pembroke Gardens Celebrates the Holiday Season With Family-Friendly Events for Kids and Adults
DESCRIPTION:Pembroke Gardens is welcoming the magic of the holiday season with a series of festive\, family-friendly events throughout December. From breakfast with Santa to cozy storytimes and in-store celebrations\, families and little ones are invited to experience the joy of the holidays at #PembrokeKIDS events across the neighborhood. \nHoliday Activities for Children:\nBreakfast with Santa at Brimstone Woodfire Grill: on Saturday\, Dec. 6 from 11 AM – 2 PM Kickoff the season with a festive family with a festive brunch alongside Santa himself. Guests can enjoy a delicious meal\, holiday-themed arts and crafts\, and the opportunity to capture memorable photos with Santa. Guests are encouraged to reserve early\, RSVP on Eventbrite and contact Brimstone at (954) 430-2333 to make your reservation or book your reservation online at Brimstonewoodfiregrill.com \nStorytime with Santa at Barnes & Noble Wednesday: on Dec. 10 from 6–8 PM Families are invited to a magical evening at Barnes & Noble as Santa reads a delightful assortment of heartwarming holiday stories. Guests will enjoy milk and cookies during the cozy storytelling session. Following storytime\, Santa will host a special book signing\, and the featured book will be available for purchase. Families will also have the opportunity to capture a festive holiday photo with Santa to commemorate the evening. Parents do not need to purchase a ticket. Tickets must be purchased online through Eventbrite and are required for children only; adults do not need to register. \nSanta Celebrates the Holidays with Kendra Scott: on Sunday\, Dec. 14 from 11 AM – 1 PM Join Kendra Scott Pembroke Gardens for a cheerful holiday celebration as Santa returns for another year of sparkle and seasonal joy. Families are invited to enjoy milk and cookies with Santa\, take festive photos\, and let little ones participate in ornament crafting while parents check off holiday shopping must-haves from Kendra Scott’s gift collections. Parents do not need to purchase a ticket. Tickets for children are limited and available on Eventbrite. \nOther Holiday Activities for the Community:\nThe Reindeer Room at Unit B Eatery & Spirits: The holiday pop-up bar returned to Pembroke Gardens for its second year\, transforming Unit B into a vintage-inspired winter setting with themed cocktails\, nostalgic décor\, festive music\, and photo opportunities. The experience runs from Nov. 19\, 2025\, through Jan. 3\, 2026\, with private party reservations available. Only for 21+. \nFor updates\, hours\, and event details\, follow @shoppembrokegardens on Instagram or visit https://www.pembrokegardens.com/events/
URL:https://305hive.com/event/pembroke-gardens-celebrates-the-holiday-season-with-family-friendly-events-for-kids-and-adults/
LOCATION:Pembroke Gardens\, 527 SW 145th Terrace\, Pembroke Pines\, 33027
ATTACH;FMTTYPE=image/png:https://305hive.com/wp-content/uploads/2025/12/SPG-Holiday.png
END:VEVENT
BEGIN:VEVENT
DTSTART;TZID=America/New_York:20251116T094500
DTEND;TZID=America/New_York:20251116T110000
DTSTAMP:20260421T132522
CREATED:20251110T154245Z
LAST-MODIFIED:20251110T154245Z
UID:10019454-1763286300-1763290800@305hive.com
SUMMARY:Zumba Celebration at Pembroke Gardens
DESCRIPTION:Kick off the holidays with a Zumba takeover by @GabyZumbaFit and Nike on Sunday\, November 16th at 9:45am. Enjoy a high-energy workout\, followed by raffles\, exclusive discounts\, a special Nike offer\, as well as other wellness vendors curated just for you. After class\, stop by the Farmers Market and check out our Disco Fall art for the perfect photo op. \nSpots are limited\, make sure to reserve yours and arrive early to secure your place on the dance floor.
URL:https://305hive.com/event/zumba-celebration-at-pembroke-gardens/
LOCATION:Pembroke Gardens\, 527 SW 145th Terrace\, Pembroke Pines\, 33027
ATTACH;FMTTYPE=image/png:https://305hive.com/wp-content/uploads/2025/11/Wellness-Sunday.png
END:VEVENT
BEGIN:VEVENT
DTSTART;TZID=America/New_York:20251026T110000
DTEND;TZID=America/New_York:20251026T130000
DTSTAMP:20260421T132522
CREATED:20251014T171221Z
LAST-MODIFIED:20251014T171221Z
UID:10019182-1761476400-1761483600@305hive.com
SUMMARY:Pembroke Gardens Hosts Family-Friendly Halloween Activities for Kids and Adults
DESCRIPTION:Pembroke Gardens will host a series of Halloween activities for families and community members throughout October. Events include workshops for children\, trick-or-treating\, and Halloween weekend celebrations. \nHalloween Activities for Children:\n– PembrokeKIDS Learn to Draw Halloween Monsters: PembrokeKIDS Learn to Draw Halloween Monsters: On Sunday\, Oct. 26 (11am-1pm)\, children can attend a drawing workshop “Learn to Draw Halloween Monsters\,” in partnership with Comic Kids and Kendra Scott. Kids will learn how to create Halloween-themed characters and will enjoy delicious chicken tenders from Brimstone Woodfire Grill\, and the first 25 guests will receive a goodie bag packed with treats\, including a free ice cream scoop from Häagen-Dazs—plus a chance to win a gift card. Tickets ($5) must be purchased online through Eventbrite and are required for children only; adults do not need to register. \n– Trick-or-Treat and Story Time With Barnes & Noble: On Wednesday\, Oct. 29 (6-8pm)\, come dressed in your spookiest or most festive costumes and make your way to Pembroke Gardens for an evening of family-friendly Halloween fun. The night will start with a spooky storytime at Barnes & Noble from 5:30–6 p.m.\, followed by check-in at the fountain for trick-or-treating. Families and pets can join a costume contest at 7 p.m. in West Plaza. Tickets are available through Eventbrite. All proceeds benefit Pooches in Pines. Parents do not need a ticket \nHalloween Weekend Festivities:\n– On Friday\, Oct. 31\, local restaurants and bars will offer Halloween-themed events\, including costume parties\, drink specials\, and live entertainment. Participating locations include Agave Bandido\, The Pub Pembroke Pines\, Brass Tap Pines\, and others. \nFore more information visit: https://www.pembrokegardens.com/events/
URL:https://305hive.com/event/pembroke-gardens-hosts-family-friendly-halloween-activities-for-kids-and-adults/
LOCATION:Pembroke Gardens\, 527 SW 145th Terrace\, Pembroke Pines\, 33027
ATTACH;FMTTYPE=image/png:https://305hive.com/wp-content/uploads/2025/10/Halloween-2025.png
END:VEVENT
BEGIN:VEVENT
DTSTART;TZID=America/New_York:20251021T180000
DTEND;TZID=America/New_York:20251021T200000
DTSTAMP:20260421T132522
CREATED:20251008T140639Z
LAST-MODIFIED:20251008T140730Z
UID:10019161-1761069600-1761076800@305hive.com
SUMMARY:Taste of the Gardens A Community Tradition Returns to Pembroke Gardens
DESCRIPTION:Pembroke Gardens announces the return of Taste of the Gardens\, a community celebration dedicated to supporting local nonprofits. Taking place on Tuesday\, October 21\, from 6-8 p.m.\, this year’s event will feature culinary delights\, live music\, artistic showcases\, charitable giving\, and giveaways. \nThroughout the past decade\, Pembroke Gardens has partnered with The Miramar Pembroke Pines Chamber of Commerce to bring together more than a dozen restaurants to offer a unique experience. This year’s lineup includes crowd favorites like Agave Bandido\, Fuddruckers\, LIME Fresh Mexican Grill\, Gelosia\, Village Tavern\, Sirocco Mediterranean Cuisine\, Brimstone Woodfire Grill\, The Pub\, Brio Italian Grille\, Misha’s Cupcakes\, Carrot Express\, Crema Gourmet and RA Sushi. \nThe celebration carries on at Brimstone Woodfire Grill with the official afterparty\, where guests will enjoy exclusive food specials\, cocktails\, a DJ\, and surprises. Guests will also receive 15% off their bill when presenting their Taste of the Gardens wristband. In a special addition to this year’s event\, attendees will have the chance to win a $100 gift card to a participating restaurant of their choice. \nSince its founding\, Taste of the Gardens has raised over $94\,160 for local nonprofits\, with this year’s proceeds benefiting organizations such as West Care/ Village South\, Voice for Children\, Pooches in Pines\, and Kiwanis Club of Miramar/Pembroke Pines. \n“Taste of the Gardens is one of our favorite traditions because it brings neighbors together in a way that’s both enjoyable and impactful\,” said Annette Alvarez\, property manager at Pembroke Gardens. “Its a night filled with food\, music\, and entertainment. It’s a celebration with a purpose\, and we’re proud to be part of it.” \n“Taste of the Gardens is about the foundations of our community\,” stated Patty Archer\, Executive Director of the Chamber. “This event supports nonprofits that help children and families\, while showcasing the richness of our local culinary scene. We are proud to partner with Pembroke Gardens on this tradition and to celebrate those who dedicate themselves to serve the families of Miramar and Pembroke Pines.” \nWith growing support from the community each year\, attendees are encouraged to secure their tickets early\, as availability is limited. For more information or to purchase your tickets\, visit https://www.pembrokegardens.com/event/taste-of-the-gardens-5/
URL:https://305hive.com/event/taste-of-the-gardens-a-community-tradition-returns-to-pembroke-gardens/
LOCATION:Pembroke Gardens\, 527 SW 145th Terrace\, Pembroke Pines\, 33027
ATTACH;FMTTYPE=image/jpeg:https://305hive.com/wp-content/uploads/2025/10/TastetheGardens-58615-scaled.jpg
END:VEVENT
BEGIN:VEVENT
DTSTART;TZID=America/New_York:20250608T094500
DTEND;TZID=America/New_York:20250608T113000
DTSTAMP:20260421T132522
CREATED:20250530T174946Z
LAST-MODIFIED:20250530T174946Z
UID:10016036-1749375900-1749382200@305hive.com
SUMMARY:Nike x Wellness Sunday Yoga Event
DESCRIPTION:Wellness Sunday Returns at Nike in Pembroke Gardens! \nOn Sunday\, June 8th\, join Nike at Pembroke Gardens for an exclusive #WellnessSunday experience starting promptly at 9:45 AM. Take part in a relaxing yoga session powered by Nike and Baptist Health South Florida. \nExperience the perfect blend of fitness and relaxation with special workout sessions\, exclusive discounts at Lime Fresh Mexican Grill\, and a 20% OFF discount at Nike. Discover wellness vendors offering their best products just for you. Spots are limited\, so reserve early and bring your own mat! \nEvent Details:\nWhen: Sunday\, June 8\, 2025\, starting at 9:45 AM\nWhere: Pembroke Gardens\, Inside Nike (627 Southwest 145th Terrace Pembroke Pines\, FL 33027) \nGrab your mat\, your water bottle\, and a friend for a peaceful morning of yoga. Don’t miss the chance to reset and refresh your wellness routine! \n#PembrokeGardens #Wellness #Free #Workouts #Local #Fitness #Yoga
URL:https://305hive.com/event/nike-x-wellness-sunday-yoga-event/
LOCATION:Pembroke Gardens\, 527 SW 145th Terrace\, Pembroke Pines\, 33027
ATTACH;FMTTYPE=image/jpeg:https://305hive.com/wp-content/uploads/2025/05/UltimateOutdoorWellnessSunday-50886-1-scaled.jpg
END:VEVENT
BEGIN:VEVENT
DTSTART;TZID=America/New_York:20250518T090000
DTEND;TZID=America/New_York:20250518T120000
DTSTAMP:20260421T132522
CREATED:20250509T003926Z
LAST-MODIFIED:20250509T003926Z
UID:10015989-1747558800-1747569600@305hive.com
SUMMARY:Pembroke Gardens Brings Back  Ultimate Wellness Sunday for Its Second Edition of 2025
DESCRIPTION:Pembroke Gardens is excited to invite the community to the second edition of this year’s Ultimate Wellness Sunday\, an outdoor fitness event focused on health and community\, taking place on Sunday\, May 18 from 9am-12pm. This one-of-a-kind event will combine high-energy workouts\, wellness activities\, and family fun in an invigorating morning designed to inspire a healthier lifestyle. \nParticipants will enjoy back-to-back workouts\, including a Soca Jam session with @SocaCize and Zumba with @GabyZumbaFit\, followed by a refreshing yoga cool-down session with Baptist Health South Florida\, all while the beats of DJ Angelo keep the energy levels high. The community will also indulge in tasty refreshments from Carrot Express and Lime Fresh Mexican Grill\, shop local wellness vendors\, and enjoy special discounts and giveaways from Nike\, Sephora\, LoveSac\, Kendra Scott\, ME SPA\, One Medical and other leading brands. After the workout\, attendees are invited to explore the weekly Farmer’s Market. \nEvent Details: \n– When: Sunday\, May 18\, 2025\, from 9:00 AM to 12:00 PM\n(Check-in starts at 8:00 AM) \n– Where: Pembroke Gardens\, Outside Nike\n527 SW 145th Terrace\, Pembroke Pines\, FL \nHighlights:\n– 8:00am–9:00am Check-in\n– 9:00am-10:00am Zumba classes by Gaby Jurado\n– 10:00am – 11:00am SocaJam by Ayanna Riveras from SocaCize\n– 11:00am-11:30amYoga cool-down session provided by Baptist Health South Florida (bring a mat or towel)\n– Breakfast bites and refreshments from some of SPG’s favorite restaurants\n– Raffle giveaways from Nike\, Sephora\, LoveSac\, Kendra Scott\, ME SPA\, One Medical and others\n– Vendor booths from Carrot Express\, Lime Fresh Mexican Grill\, and more\n– All ages are welcome. RSVPs are required for the workout sessions. \nFor more information about Pembroke Gardens please visit https://www.pembrokegardens.com/
URL:https://305hive.com/event/pembroke-gardens-brings-back-ultimate-wellness-sunday-for-its-second-edition-of-2025/
LOCATION:Pembroke Gardens\, 527 SW 145th Terrace\, Pembroke Pines\, 33027
ATTACH;FMTTYPE=image/jpeg:https://305hive.com/wp-content/uploads/2025/05/UltimateOutdoorWellnessSunday-59914-1-scaled.jpg
END:VEVENT
BEGIN:VEVENT
DTSTART;TZID=America/New_York:20250429T180000
DTEND;TZID=America/New_York:20250429T200000
DTSTAMP:20260421T132522
CREATED:20250410T140642Z
LAST-MODIFIED:20250410T140642Z
UID:10015891-1745949600-1745956800@305hive.com
SUMMARY:Pembroke Gardens Welcomes The Exciting Return of Taste of the Gardens
DESCRIPTION:With over $89\,660 raised\, Taste of the Gardens continues its legacy of supporting local non-profits. \nPembroke Gardens announces the return of its highly anticipated event\, Taste of the Gardens\, a beloved community event dedicated to supporting local nonprofits. Taking place on Tuesday\, April 29\, from 6-8 p.m.\, this year’s event will feature culinary delights\, live music\, artistic showcases\, charitable giving\, and giveaways. The celebration will continue at the official afterparty\, hosted at Agave Bandido\, where guests will enjoy exclusive food specials\, cocktails and surprises\, including a live mariachi band. Due to high demand\, guests are encouraged to secure their spots in advance as tickets for the event sell out quickly. \nThroughout the past decade\, Pembroke Gardens has partnered with The Miramar Pembroke Pines Chamber of Commerce bringing together more than a dozen restaurants to offer a unique\, flavorful experience. This year’s lineup includes crowd favorites like Agave Bandido\, The Brass Tap\, Fuddruckers\, LIME Fresh Mexican Grill\, Gelosia\, Village Tavern\, Sirocco Mediterranean Cuisine\, Brimstone\, The Pub\, Brio Italian Grille\, Misha’s Cupcakes\, Sal’s Ristorante and RA Rushi. \nIn a special addition to this year’s event\, attendees will have the chance to win a $100 gift card to a participating restaurant of their choice. \nSince its founding\, Taste of the Gardens has raised over $89\,660 for local nonprofits\, with this year’s proceeds benefiting organizations such as Pooches in Pines\, Kiwanis Club of Miramar/Pembroke Pines\, Children’s Harbor\, and Fort Lauderdale Orchid Society. The event remains a cornerstone of community involvement\, fostering charitable giving through a shared passion for food and local culture. \n“Taste of the Gardens is more than just a celebration of food; it’s a celebration of our community’s strength and generosity\,” said Annette Alvarez\, property manager\, Pembroke Gardens. “We are proud to partner with the Miramar Pembroke Pines Chamber of Commerce to host an event that not only delights our guests but also supports local nonprofits that are dedicated to making a positive impact in our community.” \n“Taste of the Gardens represents a meaningful tradition of giving back\, supporting organizations that provide essential services to families and children in need\,” said Patty Archer\, president of the Chamber. “We are honored to continue partnering with Pembroke Gardens in this event that showcases the local culinary scene of our neighborhood and celebrates those who do so much for the children and families of Miramar and Pembroke Pines.” \nFor more information or to purchase your tickets\, visit https://www.pembrokegardens.com/event/taste-of-the-gardens-4/
URL:https://305hive.com/event/pembroke-gardens-welcomes-the-exciting-return-of-taste-of-the-gardens/
LOCATION:Pembroke Gardens\, 527 SW 145th Terrace\, Pembroke Pines\, 33027
ATTACH;FMTTYPE=image/jpeg:https://305hive.com/wp-content/uploads/2025/04/Taste-the-Gardens-58451-1-scaled.jpg
END:VEVENT
END:VCALENDAR